BEGIN:VCALENDAR
VERSION:2.0
PRODID:-//jEvents 2.0 for Joomla//EN
CALSCALE:GREGORIAN
METHOD:PUBLISH
BEGIN:VEVENT
UID:baded44bcc1f75684dd5fd5d1ac9e48c
CATEGORIES:Community Events
CREATED:20250707T152815
SUMMARY:Buckhorn Festival of the Arts
LOCATION:Buckhorn Community Centre\, 1782 Lakehurst Road\, Buckhorn K0L1J0
DESCRIPTION:Experience world-class art, good music, and great company at the annual Buc
 khorn Festival of the Arts at the Buckhorn Community Centre on Saturday, Au
 gust 16 from 10am to 5pm and Sunday, August 17 from 10am to 4pm. Admission 
 is by donation. Visit www.buckhorncommunitycentre.com (http://www.buckhornc
 ommunitycentre.com) for more information.\n
X-ALT-DESC;FMTTYPE=text/html:<p>Experience world-class art, good music, and great company at the annual 
 Buckhorn Festival of the Arts at the Buckhorn Community Centre on Saturday,
  August 16 from 10am to 5pm and Sunday, August 17 from 10am to 4pm. Admissi
 on is by donation. Visit <a href="http://www.buckhorncommunitycentre.com">w
 ww.buckhorncommunitycentre.com</a> for more information.</p>
CONTACT:Meghan Arnott
DTSTAMP:20260423T075248
DTSTART:20250817T100000
DTEND:20250817T160000
SEQUENCE:0
TRANSP:OPAQUE
END:VEVENT
END:VCALENDAR