BEGIN:VCALENDAR
VERSION:2.0
PRODID:-//jEvents 2.0 for Joomla//EN
CALSCALE:GREGORIAN
METHOD:PUBLISH
BEGIN:VEVENT
UID:428aa2b09bef1e1071af7273c58eae68
CATEGORIES:Community Events
CREATED:20250709T133646
SUMMARY:35th Annual Car Rally - Let's Rally for Kids
LOCATION:It's a secret!
DESCRIPTION:For nearly 35 years, the Let’s Rally for Kids annual car rally has united r
 alliers from all across Ontario in a 2-day team-building rally race event! 
 In this exciting event, contestants work together with their team of two to
  four people, solve puzzles, drive\nto special checkpoints that each has a 
 challenge, and navigate the roads with special instructions. The competitio
 n is fierce and fun and with over 40 teams vying for the chance to be crown
 ed the Competitive and Recreational trophy winners.\n\nWhen the rally is ov
 er, the rest of the fun is just getting started! Our amazing evening festiv
 ities include a dinner, dance, 50/50 draw, and silent auction. Then, after 
 dancing well into the wee hours of the day, our teams get to enjoy an overn
 ight stay at a charming local hotel, and get to celebrate their victories o
 ver coffee in the lobby!\nBest of all, all proceeds raised by the event are
  split 50/50 between two local charities: the Shine Foundation and Jennifer
  Ashleigh Children’s Charity.\n
X-ALT-DESC;FMTTYPE=text/html:<p>For nearly 35 years, the Let’s Rally for Kids annual car rally has unite
 d ralliers from all across Ontario in a 2-day team-building rally race even
 t! In this exciting event, contestants work together with their team of two
  to four people, solve puzzles, drive<br />to special checkpoints that each
  has a challenge, and navigate the roads with special instructions. The com
 petition is fierce and fun and with over 40 teams vying for the chance to b
 e crowned the Competitive and Recreational trophy winners.</p><p><br />When
  the rally is over, the rest of the fun is just getting started! Our amazin
 g evening festivities include a dinner, dance, 50/50 draw, and silent aucti
 on. Then, after dancing well into the wee hours of the day, our teams get t
 o enjoy an overnight stay at a charming local hotel, and get to celebrate t
 heir victories over coffee in the lobby!<br />Best of all, all proceeds rai
 sed by the event are split 50/50 between two local charities: the Shine Fou
 ndation and Jennifer Ashleigh Children’s Charity.</p>
CONTACT:Debbie Breuls
X-EXTRAINFO:for all the information check out \nwww.breulsassociates.com/rally-for-kids
DTSTAMP:20260423T113327
DTSTART:20251019T080000
SEQUENCE:0
TRANSP:OPAQUE
END:VEVENT
END:VCALENDAR