BEGIN:VCALENDAR
VERSION:2.0
PRODID:-//jEvents 2.0 for Joomla//EN
CALSCALE:GREGORIAN
METHOD:PUBLISH
BEGIN:VEVENT
UID:f9e6d7d520e3797e85b0750543abe54b
CATEGORIES:Community Events
CREATED:20250722T193628
SUMMARY:PB&J Mario Kart Tournament
LOCATION:PB&amp;J Comics and Collectibles
DESCRIPTION:It's time to put the pedal to the metal and flex your racing credentials in
  this Mario Kart tournament at PB&amp;J Comics! Blistering racing action pr
 ojected onto a 100-inch screen on our second floor! \nWhere: PB&amp;J Comic
 s and Collectibles (232 Kent St W in Lindsay)\nWhen: Saturday, July 26th. C
 heck-in starts at 2 pm, 1st round starting at 2:30pm\nCost: $10 entry\n\nIn
  the first round, each group of up to four players will race head-to-head. 
 The top 8 players, determined by highest scores will advance to the second 
 round.\n\nAt the end of the second round, the top 4 players, determined by 
 highest scores will advance to the finals.\nThe player with the highest sco
 re in the finals is the winner!\nPrizes and number of races each round are 
 dependent upon number of players.\n\nNote: Joy Con controllers will be prov
 ided for the tournament. Players will be allowed to bring their own control
 lers for use instead\n
X-ALT-DESC;FMTTYPE=text/html:<p>It's time to put the pedal to the metal and flex your racing credentials
  in this Mario Kart tournament at PB&amp;J Comics! Blistering racing action
  projected onto a 100-inch screen on our second floor! </p><p><strong>Where
 : </strong>PB&amp;J Comics and Collectibles (232 Kent St W in Lindsay)</p><
 p><strong>When:</strong> Saturday, July 26th. Check-in starts at 2 pm, 1st 
 round starting at 2:30pm</p><p><strong>Cost:</strong> $10 entry</p><p><br /
 >In the first round, each group of up to four players will race head-to-hea
 d. The top 8 players, determined by highest scores will advance to the seco
 nd round.</p><p><br />At the end of the second round, the top 4 players, de
 termined by highest scores will advance to the finals.<br />The player with
  the highest score in the finals is the winner!</p><p>Prizes and number of 
 races each round are dependent upon number of players.</p><p><br />Note: Jo
 y Con controllers will be provided for the tournament. Players will be allo
 wed to bring their own controllers for use instead</p>
DTSTAMP:20260422T233406
DTSTART:20250726T143000
DTEND:20250726T160000
SEQUENCE:0
TRANSP:OPAQUE
END:VEVENT
END:VCALENDAR