BEGIN:VCALENDAR
VERSION:2.0
PRODID:-//jEvents 2.0 for Joomla//EN
CALSCALE:GREGORIAN
METHOD:PUBLISH
BEGIN:VEVENT
UID:ecf4917e0daa7e7d13f9934e06cfd07c
CATEGORIES:Community Events
CREATED:20250731T200756
SUMMARY:BBQ Event
LOCATION:Home Building Center Lindsay
DESCRIPTION:BBQ Event at Home Building Centre Lindsay, 220 Lindsay St. S.\n10am-3pm Thu
 rsday Aug. 14. \nHome Building Centre is teaming up with the Kinsmen to hel
 p the annual Toy Drive. \nEvents include free hamburgers and hot dogs, live
  music featuring Keith Kirkpatrick\nPrizes, and face painting for kids, and
  a dunk tank.\nPlease bring a new unwrapped toy, and/or a cash donation. \n
 \n\n
X-ALT-DESC;FMTTYPE=text/html:<p><span data-olk-copy-source="MessageBody">BBQ Event at Home Building Cent
 re Lindsay, 220 Lindsay St. S.<br />10am-3pm Thursday Aug. 14. <br />Home B
 uilding Centre is teaming up with the Kinsmen to help the annual Toy Drive.
  <br />Events include free hamburgers and hot dogs, live music featuring Ke
 ith Kirkpatrick<br />Prizes, and face painting for kids, and a dunk tank.<b
 r />Please bring a new unwrapped toy, and/or a cash donation. <br /><br /><
 /span></p>
CONTACT:Susan Kirkpatrick
DTSTAMP:20260423T075416
DTSTART:20250814T100000
DTEND:20250814T150000
SEQUENCE:0
TRANSP:OPAQUE
END:VEVENT
END:VCALENDAR