BEGIN:VCALENDAR
VERSION:2.0
PRODID:-//jEvents 2.0 for Joomla//EN
CALSCALE:GREGORIAN
METHOD:PUBLISH
BEGIN:VEVENT
UID:3384c4ea4db11c2f71fcf8d6d27194db
CATEGORIES:Community Events
CREATED:20250805T181657
SUMMARY:Hearts 4 Joy Charity Golf Tournament
LOCATION:Quarry Golf Ennismore
DESCRIPTION:The Hearts 4 Joy Non Profit Organization would love to invite you to their 
 Charity Golf Tournament! Hosted by the Down Syndrome Foundation in support 
 of tHearts 4 Joy,  15 young adults over the age of 21 with developmental ex
 ceptionalities.  \nThis amazing group of artists get together 4 times a wee
 k in their little shoppe in the Charlotte Mews where they create hand paint
 ed gift items.  You may have seen them at various pop up artisan markets in
  and around town.   Most recently they attended the 200th Anniversary of ou
 r Peterborough Farmers Market!\n \n
X-ALT-DESC;FMTTYPE=text/html:<p>The Hearts 4 Joy Non Profit Organization would love to invite you to the
 ir Charity Golf Tournament! Hosted by the Down Syndrome Foundation in suppo
 rt of tHearts 4 Joy,  15 young adults over the age of 21 with developmental
  exceptionalities.  </p><p>This amazing group of artists get together 4 tim
 es a week in their little shoppe in the Charlotte Mews where they create ha
 nd painted gift items.  You may have seen them at various pop up artisan ma
 rkets in and around town.   Most recently they attended the 200th Anniversa
 ry of our Peterborough Farmers Market!</p><p> </p>
CONTACT:Deb Reid 705-313-5954
X-EXTRAINFO:come for golf or just for dinner 
DTSTAMP:20260423T075255
DTSTART:20250817T110000
DTEND:20250817T200000
SEQUENCE:0
TRANSP:OPAQUE
END:VEVENT
END:VCALENDAR