BEGIN:VCALENDAR
VERSION:2.0
PRODID:-//jEvents 2.0 for Joomla//EN
CALSCALE:GREGORIAN
METHOD:PUBLISH
BEGIN:VEVENT
UID:014562127932479566d26f00405f11b8
CATEGORIES:Community Events
CREATED:20250808T014853
SUMMARY:Second Annual Classic Car Show
LOCATION:Cordova Mines Community Centre
DESCRIPTION:Cordova Mines Recreation Association is hosting their second annual classic
  car show on Saturday, August 23, 10am to 2pm at the Cordova Mines Communit
 y Centre. \nBring out the family for a good time and cool cars! There will 
 be live music, a barbecue, raffle table, 50/50 draw, and dash plaques for t
 he first 75 cars! \n\n\nCheck out their website or Facebook page for detail
 s on how to register your ride today! Please note this is a cash only event
 . \n
X-ALT-DESC;FMTTYPE=text/html:<p>Cordova Mines Recreation Association is hosting their second annual clas
 sic car show on Saturday, August 23, 10am to 2pm at the Cordova Mines Commu
 nity Centre. </p><p>Bring out the family for a good time and cool cars! The
 re will be live music, a barbecue, raffle table, 50/50 draw, and dash plaqu
 es for the first 75 cars! <br /><br /></p><p>Check out their website or Fac
 ebook page for details on how to register your ride today! Please note this
  is a cash only event. </p>
DTSTAMP:20260423T012226
DTSTART:20250823T100000
DTEND:20250823T140000
SEQUENCE:0
TRANSP:OPAQUE
END:VEVENT
END:VCALENDAR