BEGIN:VCALENDAR
VERSION:2.0
PRODID:-//jEvents 2.0 for Joomla//EN
CALSCALE:GREGORIAN
METHOD:PUBLISH
BEGIN:VEVENT
UID:6ed2bd758b4f972cc97b674e96e88290
CATEGORIES:Community Events
CREATED:20250808T182743
SUMMARY:Activity Haven's 50th Anniversary Celebration!
LOCATION:180 Barnardo Ave. PTBO
DESCRIPTION:Join us at Activity Haven for our 50th anniversary celebration! This is a f
 amily friendly event, free face painting, balloon animals, popcorn, enterta
 inment. BBQ available for purchase. From 4-8PM\n
X-ALT-DESC;FMTTYPE=text/html:<p>Join us at Activity Haven for our 50th anniversary celebration! This is 
 a family friendly event, free face painting, balloon animals, popcorn, ente
 rtainment. BBQ available for purchase. From 4-8PM</p>
CONTACT:Terri Shaw
DTSTAMP:20260423T074635
DTSTART:20250814T160000
DTEND:20250814T200000
SEQUENCE:0
TRANSP:OPAQUE
END:VEVENT
END:VCALENDAR