BEGIN:VCALENDAR
VERSION:2.0
PRODID:-//jEvents 2.0 for Joomla//EN
CALSCALE:GREGORIAN
METHOD:PUBLISH
BEGIN:VEVENT
UID:bba3aa97a5b81d84cb575b69eacad943
CATEGORIES:Community Events
CREATED:20250813T011106
SUMMARY:100 Guitar Campfire Singalong
LOCATION:Dunsford CommuniCentre
DESCRIPTION:The Dunsford &amp; District Lions Club invites the community to gather arou
 nd the campfire for their second annual 100 Guitar Campfire Singalong on Se
 ptember 5, 2025, at the Dunsford Community Centre.\nThis unique family-frie
 ndly event aims to bring together 100 or more amateur guitarists for an eve
 ning of music, community spirit, and fun. Participants will join voices aro
 und a massive campfire to perform popular, easy-to-learn songs in a welcomi
 ng, inclusive atmosphere.\n"We're looking for guitarists of all skill level
 s – and all ages – to join us," said a Lions Club spokesperson. "Whether yo
 u're 8 or 80, if you can strum a few chords, we want you there."\nMusicians
  without guitars are encouraged to bring harmonicas, spoons, tambourines, f
 iddles, horns or any other instruments they play. Non-musicians are equally
  welcome to participate with their singing voices and enthusiasm.\nTo ensur
 e everyone can participate, song lyrics and guitar chords for the opening n
 umbers will be shared in advance on the club's Facebook page at Facebook.co
 m/DunsfordLionsClub. After the group songs, individual guitarists will have
  the opportunity to lead their own song selections in an Open Mic format.\n
 Event Details:\nDate: September 5, 2025Time: 5:00 PM - 10:30 PMLocation: Du
 nsford Community Centre, 26 Community Centre Rd, DunsfordAdmission: By dona
 tionThe evening features a BBQ tent and children's activities, making it an
  ideal outing for families. All proceeds will benefit BGC Kawarthas and Big
  Brothers Big Sisters Kawartha Haliburton.\nAttendees should bring lawn cha
 irs, flashlights, and their best campfire spirit. Snacks will be available.
 \nFor more information, visit Facebook.com/DunsfordLionsClub or contact the
  Dunsford &amp; District Lions Club.\nMedia Contact: David Webb, 905-914-54
 79, iuaassoc@gmail.com (mailto:iuaassoc@gmail.com)\n
X-ALT-DESC;FMTTYPE=text/html:<p dir="auto" data-originalfontsize="0.916667rem" data-originalcomputedfont
 size="14.666672">The Dunsford &amp; District Lions Club invites the communi
 ty to gather around the campfire for their second annual 100 Guitar Campfir
 e Singalong on September 5, 2025, at the Dunsford Community Centre.</p><p d
 ata-originalfontsize="0.916667rem" data-originalcomputedfontsize="14.666672
 ">This unique family-friendly event aims to bring together 100 or more amat
 eur guitarists for an evening of music, community spirit, and fun. Particip
 ants will join voices around a massive campfire to perform popular, easy-to
 -learn songs in a welcoming, inclusive atmosphere.</p><p data-originalfonts
 ize="0.916667rem" data-originalcomputedfontsize="14.666672">"We're looking 
 for guitarists of all skill levels – and all ages – to join us," said a Lio
 ns Club spokesperson. "Whether you're 8 or 80, if you can strum a few chord
 s, we want you there."</p><p data-originalfontsize="0.916667rem" data-origi
 nalcomputedfontsize="14.666672">Musicians without guitars are encouraged to
  bring harmonicas, spoons, tambourines, fiddles, horns or any other instrum
 ents they play. Non-musicians are equally welcome to participate with their
  singing voices and enthusiasm.</p><p data-originalfontsize="0.916667rem" d
 ata-originalcomputedfontsize="14.666672">To ensure everyone can participate
 , song lyrics and guitar chords for the opening numbers will be shared in a
 dvance on the club's Facebook page at Facebook.com/<wbr />DunsfordLionsClub
 . After the group songs, individual guitarists will have the opportunity to
  lead their own song selections in an Open Mic format.</p><p><b data-origin
 alfontsize="0.916667rem" data-originalcomputedfontsize="14.666672">Event De
 tails:</b></p><ul type="disc"><li data-originalfontsize="0.916667rem" data-
 originalcomputedfontsize="14.666672"><b data-originalfontsize="0.916667rem"
  data-originalcomputedfontsize="14.666672">Date:</b> September 5, 2025</li>
 <li data-originalfontsize="0.916667rem" data-originalcomputedfontsize="14.6
 66672"><b data-originalfontsize="0.916667rem" data-originalcomputedfontsize
 ="14.666672">Time:</b> 5:00 PM - 10:30 PM</li><li data-originalfontsize="0.
 916667rem" data-originalcomputedfontsize="14.666672"><b data-originalfontsi
 ze="0.916667rem" data-originalcomputedfontsize="14.666672">Location:</b> Du
 nsford Community Centre, 26 Community Centre Rd, Dunsford</li><li data-orig
 inalfontsize="0.916667rem" data-originalcomputedfontsize="14.666672"><b dat
 a-originalfontsize="0.916667rem" data-originalcomputedfontsize="14.666672">
 Admission:</b> By donation</li></ul><p data-originalfontsize="0.916667rem" 
 data-originalcomputedfontsize="14.666672">The evening features a BBQ tent a
 nd children's activities, making it an ideal outing for families. All proce
 eds will benefit BGC Kawarthas and Big Brothers Big Sisters Kawartha Halibu
 rton.</p><p data-originalfontsize="0.916667rem" data-originalcomputedfontsi
 ze="14.666672">Attendees should bring lawn chairs, flashlights, and their b
 est campfire spirit. Snacks will be available.</p><p data-originalfontsize=
 "0.916667rem" data-originalcomputedfontsize="14.666672">For more informatio
 n, visit Facebook.com/DunsfordLionsClub or contact the Dunsford &amp; Distr
 ict Lions Club.</p><p data-originalfontsize="0.916667rem" data-originalcomp
 utedfontsize="14.666672"><b data-originalfontsize="0.916667rem" data-origin
 alcomputedfontsize="14.666672">Media Contact:</b> David Webb, 905-914-5479,
  <a href="mailto:iuaassoc@gmail.com" target="_blank" rel="noopener" data-or
 iginalfontsize="0.916667rem" data-originalcomputedfontsize="14.666672">iuaa
 ssoc@gmail.<wbr />com</a></p>
CONTACT:David Webb
DTSTAMP:20260422T214027
DTSTART:20250905T170000
DTEND:20250905T223000
SEQUENCE:0
TRANSP:OPAQUE
END:VEVENT
END:VCALENDAR