BEGIN:VCALENDAR
VERSION:2.0
PRODID:-//jEvents 2.0 for Joomla//EN
CALSCALE:GREGORIAN
METHOD:PUBLISH
BEGIN:VEVENT
UID:a680450a64c10b3a45a8341994188c6e
CATEGORIES:Community Events
CREATED:20250815T113708
SUMMARY:Benefit Cruise - Warsaw Lions Park
LOCATION:Warsaw Lions Park
DESCRIPTION:Saturday august 16th, 2025 10:00 am-3:00 pm.  Raffle Prizes, 50/50, BBQ, Ca
 rs, Trucks, motorcycles.  Help the community of Douro-Dummer lend a helping
  hand. All proceeds to Donna Henley\nNon-perishable food donation accepted 
 at the gate for Lakefield Food Bank\n
X-ALT-DESC;FMTTYPE=text/html:<p>Saturday august 16th, 2025 10:00 am-3:00 pm.  Raffle Prizes, 50/50, BBQ,
  Cars, Trucks, motorcycles.  Help the community of Douro-Dummer lend a help
 ing hand. All proceeds to Donna Henley</p><p>Non-perishable food donation a
 ccepted at the gate for Lakefield Food Bank</p>
CONTACT:Candice 705-933-6686
DTSTAMP:20260423T074408
DTSTART:20250816T100000
DTEND:20250816T150000
SEQUENCE:0
TRANSP:OPAQUE
END:VEVENT
END:VCALENDAR