BEGIN:VCALENDAR
VERSION:2.0
PRODID:-//jEvents 2.0 for Joomla//EN
CALSCALE:GREGORIAN
METHOD:PUBLISH
BEGIN:VEVENT
UID:2fe458918b2f754d963c29fc19795c4a
CATEGORIES:Community Events
CREATED:20250820T163054
SUMMARY:Kawartha Riders Lions Branch Motorcycle Show n Shine and community fun day
LOCATION:Old Mill Park Lindsay
DESCRIPTION:https://www.facebook.com/share/19j6Vz9pMM/\n \n The 6th Annual Show &amp; S
 hine and Community Fun Day is always a great day for the community. Kids' g
 ames and activities, live music, food &amp; vendors, and some of the best l
 ooking motorcycles in Kawartha Lakes. Enter your bike in the Show &amp; Shi
 ne: $20 Admission to the park: FREE! from 10am to 5pm VENDORS &amp; BANDS s
 end an email to This email address is being protected from spambots. You ne
 ed JavaScript enabled to view it. for booking information\n
X-ALT-DESC;FMTTYPE=text/html:<p><a title="2025 Show N Shine and Community fun day" href="https://www.fac
 ebook.com/share/19j6Vz9pMM/" target="_blank" rel="noopener">https://www.fac
 ebook.com/share/19j6Vz9pMM/</a></p><p> </p><pre> </pre><p>The 6th Annual Sh
 ow &amp; Shine and Community Fun Day is always a great day for the communit
 y. Kids' games and activities, live music, food &amp; vendors, and some of 
 the best looking motorcycles in Kawartha Lakes. Enter your bike in the Show
  &amp; Shine: $20 Admission to the park: FREE! from 10am to 5pm VENDORS &am
 p; BANDS send an email to <joomla-hidden-mail  is-link="1" is-email="1" fir
 st="a2F3YXJ0aHJpZGVycw==" last="Z21haWwuY29t" text="a2F3YXJ0aHJpZGVyc0BnbWF
 pbC5jb20=" base="" >This email address is being protected from spambots. Yo
 u need JavaScript enabled to view it.</joomla-hidden-mail> for booking info
 rmation</p>
CONTACT:Jason
X-EXTRAINFO:The 6th Annual Show &amp; Shine and Community Fun Day is always a great day
  for the community. Kids' games and activities, live music, food &amp; vend
 ors, and some of the best looking motorcycles in Kawartha Lakes.\nEnter you
 r bike in the Show &amp; Shine: $20\nAdmission to the park: FREE!\nfrom 10a
 m to 5pm\nVENDORS &amp; BANDS send an email to\nThis email address is being
  protected from spambots. You need JavaScript enabled to view it. for booki
 ng information
DTSTAMP:20260422T213945
DTSTART:20250906T100000
DTEND:20250906T170000
SEQUENCE:0
TRANSP:OPAQUE
END:VEVENT
END:VCALENDAR