BEGIN:VCALENDAR
VERSION:2.0
PRODID:-//jEvents 2.0 for Joomla//EN
CALSCALE:GREGORIAN
METHOD:PUBLISH
BEGIN:VEVENT
UID:e16339444a5526024b9a7e9f0b636f8e
CATEGORIES:Community Events
CREATED:20250820T215256
SUMMARY:Peterborough Wood Carvers’ Association Open House 
LOCATION:Activity Haven 180 Barnado Street Room 17
DESCRIPTION:The Peterborough &amp; District Woodcarvers invite you to visit our club to
  meet our members and see some of our work. Whether you carve or not, all a
 re welcome! \n
X-ALT-DESC;FMTTYPE=text/html:<p>The Peterborough &amp; District Woodcarvers invite you to visit our club
  to meet our members and see some of our work. Whether you carve or not, al
 l are welcome! </p>
DTSTAMP:20260422T214233
DTSTART:20250920T120000
DTEND:20250920T150000
SEQUENCE:0
TRANSP:OPAQUE
END:VEVENT
END:VCALENDAR