BEGIN:VCALENDAR
VERSION:2.0
PRODID:-//jEvents 2.0 for Joomla//EN
CALSCALE:GREGORIAN
METHOD:PUBLISH
BEGIN:VEVENT
UID:281edf7b3219de2c77386c7e55b8159f
CATEGORIES:Community Events
CREATED:20250821T011928
SUMMARY:PSO Musical Nature Walk
LOCATION:Tecasy Ranch\, 38 Boltons Rd.\, Buckhorn\, ON K0L 2H0
DESCRIPTION:The Peterborough Symphony Orchestra, in partnership with the Peterborough F
 ield Naturalists and Tecasy Ranch, is again offering a unique musical exper
 ience in nature on Saturday, September 6th. There will be two performances 
 at 12:30 and 4 p.m. \n \nGuests will be placed in small groups and led alon
 g walking trails by Peterborough Field Naturalist guides who will interpret
  the surrounding flora and fauna. Interspersed, the guests will come upon P
 SO musicians providing small ensemble performances in lovely natural backdr
 ops.\n \nThe walking trails are suitable for casual hikers and guests are e
 ncouraged to dress appropriately (suitable footwear and comfortable clothin
 g). Unfortunately, the trails are not suitable for patrons with mobility de
 vices.\n \nSpace for this sound adventure in nature is limited so buy your 
 tickets soon! https://www.tickettailor.com/events/peterboroughsymphonyorche
 stra/1768984\n \nMore information is available at https://thepso.org/musica
 l-nature-walk-2025 (https://thepso.org/musical-nature-walk-2025)\n
X-ALT-DESC;FMTTYPE=text/html:<p>The Peterborough Symphony Orchestra, in partnership with the Peterboroug
 h Field Naturalists and Tecasy Ranch, is again offering a unique musical ex
 perience in nature on Saturday, September 6<sup>th</sup>. There will be two
  performances at 12:30 and 4 p.m. </p><p> </p><p>Guests will be placed in s
 mall groups and led along walking trails by Peterborough Field Naturalist g
 uides who will interpret the surrounding flora and fauna. Interspersed, the
  guests will come upon PSO musicians providing small ensemble performances 
 in lovely natural backdrops.</p><p> </p><p>The walking trails are suitable 
 for casual hikers and guests are encouraged to dress appropriately (suitabl
 e footwear and comfortable clothing). Unfortunately, the trails are not sui
 table for patrons with mobility devices.</p><p> </p><p>Space for this sound
  adventure in nature is limited so buy your tickets soon! <a href="https://
 www.tickettailor.com/events/peterboroughsymphonyorchestra/1768984">https://
 www.tickettailor.com/events/peterboroughsymphonyorchestra/1768984</a></p><p
 > </p><p>More information is available at <a href="https://thepso.org/music
 al-nature-walk-2025">https://thepso.org/musical-nature-walk-2025</a></p>
CONTACT:Christie Goodwin, 705-742-1992
DTSTAMP:20260422T214300
DTSTART:20250906T123000
DTEND:20250906T190000
SEQUENCE:0
TRANSP:OPAQUE
END:VEVENT
END:VCALENDAR