BEGIN:VCALENDAR
VERSION:2.0
PRODID:-//jEvents 2.0 for Joomla//EN
CALSCALE:GREGORIAN
METHOD:PUBLISH
BEGIN:VEVENT
UID:4193640b34b6ce3bd35ff0b98252ad41
CATEGORIES:Community Events
CREATED:20250825T180250
SUMMARY:GPHSF Comedy Night with D.J. Demers
LOCATION:The Market Hall Perfroming Arts Centre
DESCRIPTION:Join us November 2nd for the GPHSF Comedy Night, a fundraiser supporting th
 e Peterborough Family Health Team's Health Clinics. The night features a ve
 ry funny all Canadian lineup of comedians headlined by D.J.Demers (as seen 
 on The Tonight Show, Americas Got Talent, Conan, and creator of the One Mor
 e Time TV show as seen on CBC). Supporting D.J. on this show is the award-w
 inning Casey Corbin, with Emcee Drew Behm. \n\nAll funds raised from the ev
 ent will benefit the PFHT Health Clinics. These clinics support the over 11
 ,000 people, and growing, in the Peterborough area who do not have a Family
  Doctor but need to see a Family Doctor or Nurse Practitioner about non-eme
 rgency care needs. Find out more by visiting www.GPHSF.ca/GPHSFComedyNight 
 (http://www.GPHSF.ca/GPHSFComedyNight) and get your tickets now through htt
 p://tickets.markethall.org/GPHSFcomedy25 (http://tickets.markethall.org/GPH
 SFcomedy25)\n
X-ALT-DESC;FMTTYPE=text/html:<p>Join us November 2nd for the GPHSF Comedy Night, a fundraiser supporting
  the Peterborough Family Health Team's Health Clinics. The night features a
  very funny all Canadian lineup of comedians headlined by D.J.Demers (as se
 en on The Tonight Show, Americas Got Talent, Conan, and creator of the One 
 More Time TV show as seen on CBC). Supporting D.J. on this show is the awar
 d-winning Casey Corbin, with Emcee Drew Behm. <br /><br />All funds raised 
 from the event will benefit the PFHT Health Clinics. These clinics support 
 the over 11,000 people, and growing, in the Peterborough area who do not ha
 ve a Family Doctor but need to see a Family Doctor or Nurse Practitioner ab
 out non-emergency care needs. Find out more by visiting <a href="http://www
 .GPHSF.ca/GPHSFComedyNight">www.GPHSF.ca/GPHSFComedyNight</a> and get your 
 tickets now through <a href="http://tickets.markethall.org/GPHSFcomedy25">h
 ttp://tickets.markethall.org/GPHSFcomedy25</a></p>
CONTACT:Vince Bierworth
X-EXTRAINFO:For more info please email This email address is being protected from spamb
 ots. You need JavaScript enabled to view it. or call 705 740 8074 ext 101
DTSTAMP:20260422T182150
DTSTART:20251102T190000
DTEND:20251102T220000
SEQUENCE:0
TRANSP:OPAQUE
END:VEVENT
END:VCALENDAR