BEGIN:VCALENDAR
VERSION:2.0
PRODID:-//jEvents 2.0 for Joomla//EN
CALSCALE:GREGORIAN
METHOD:PUBLISH
BEGIN:VEVENT
UID:dc0e78c2d5e9226454f7406b44e7fc4e
CATEGORIES:Community Events
CREATED:20250825T180753
SUMMARY:Peterborough Concussion Summit
LOCATION:The Market Hall Performing Arts Centre
DESCRIPTION:Join us on October 28th for the Peterborough Concussion Summit presented by
  Gowland, Boriss Injury Lawyers (https://www.gowlandboriss.ca/), and in par
 tnership with the Ontario Brain Institute.\nIf you work in education or hea
 lthcare, are a coach or work in youth sport, or have an interest in finding
  out the latest in concussion management, this is a must attend event for y
 ou.  You will gain access to the latest research, treatment strategies, and
  real-world approaches for supporting students and athletes through concuss
 ion recovery.\nFind out about the event, participants and more at www.paca.
 health/education/peterborough-concussion-summit/ (http://www.paca.health/ed
 ucation/peterborough-concussion-summit/)\nSecure your ticket now through th
 e Market Hall Box Office  https://tickets.markethall.org/concussion25 (http
 s://tickets.markethall.org/concussion25)\nAll funds raised from this event 
 will support further concussion education and awareness programming through
  the Greater Peterborough Health Services Foundation (GPHSF).  (http://www.
 gphsf.ca)\n
X-ALT-DESC;FMTTYPE=text/html:<p>Join us on October 28<sup>th</sup> for the Peterborough Concussion Summi
 t presented by <a href="https://www.gowlandboriss.ca/">Gowland, Boriss Inju
 ry Lawyers</a>, and in partnership with the Ontario Brain Institute.</p><p>
 If you work in education or healthcare, are a coach or work in youth sport,
  or have an interest in finding out the latest in concussion management, th
 is is a must attend event for you.  You will gain access to the latest rese
 arch, treatment strategies, and real-world approaches for supporting studen
 ts and athletes through concussion recovery.</p><p>Find out about the event
 , participants and more at <a href="http://www.paca.health/education/peterb
 orough-concussion-summit/">www.paca.health/education/peterborough-concussio
 n-summit/</a></p><p>Secure your ticket now through the Market Hall Box Offi
 ce  <a href="https://tickets.markethall.org/concussion25">https://tickets.m
 arkethall.org/concussion25</a></p><p>All funds raised from this event will 
 support further concussion education and awareness programming through the 
 <a href="http://www.gphsf.ca">Greater Peterborough Health Services Foundati
 on (GPHSF). </a></p>
CONTACT:Vince Bierworth
X-EXTRAINFO:For more information please email This email address is being protected fro
 m spambots. You need JavaScript enabled to view it. or phone 705 740 8074 e
 xt 101
DTSTAMP:20260422T182156
DTSTART:20251028T110000
DTEND:20251028T170000
SEQUENCE:0
TRANSP:OPAQUE
END:VEVENT
END:VCALENDAR