BEGIN:VCALENDAR
VERSION:2.0
PRODID:-//jEvents 2.0 for Joomla//EN
CALSCALE:GREGORIAN
METHOD:PUBLISH
BEGIN:VEVENT
UID:4335f48f8a7cc8b2deea23cd67222eeb
CATEGORIES:Community Events
CREATED:20250902T193122
SUMMARY:Touch-A-Truck
LOCATION:Millbrook Fairgrounds-13 Frederick St
DESCRIPTION:The Millbrook/Cavan Firefighters Association in partnership with the Millbr
 ook Agricultural Society\nPresent the\n2025 TOUCH-A-TRUCK\nSaturday Septemb
 er 27, 2025 from 10am-2pm\nMillbrook fairgrounds - 13 Frederick Street, Mil
 lbrook\n
X-ALT-DESC;FMTTYPE=text/html:<p>The Millbrook/Cavan Firefighters Association in partnership with the Mil
 lbrook Agricultural Society</p><p>Present the</p><p>2025 TOUCH-A-TRUCK</p><
 p>Saturday September 27, 2025 from 10am-2pm</p><p>Millbrook fairgrounds - 1
 3 Frederick Street, Millbrook</p>
X-EXTRAINFO:There will be a quiet time from 10am-11am for those sensitive to noise
DTSTAMP:20260422T201222
DTSTART:20250927T100000
DTEND:20250927T140000
SEQUENCE:0
TRANSP:OPAQUE
END:VEVENT
END:VCALENDAR