BEGIN:VCALENDAR
VERSION:2.0
PRODID:-//jEvents 2.0 for Joomla//EN
CALSCALE:GREGORIAN
METHOD:PUBLISH
BEGIN:VEVENT
UID:3cf1d7ffca7d38723c2fa6b86cef375e
CATEGORIES:Community Events
CREATED:20250904T133630
SUMMARY:Terry Fox Run Lindsay
LOCATION:Lindsay Rec Center
DESCRIPTION:Join us for the 45th Anniversary Terry Fox Run!\nCome to the Lindsay Recrea
 tional Centre on Sunday, September 14th.Registration opens at 9:30 AM, and 
 the run starts at 10:00 AM.\nTerry Fox began a marathon to fight cancer — t
 ogether, we can finish it.Help us raise funds and awareness in support of c
 ancer research.\nVolunteers are needed — it’s a great way to earn community
  service hours!\nTo register or for more information, contact Mario at 705-
 768-3297, or just show up and fundraise!\n
X-ALT-DESC;FMTTYPE=text/html:<p data-start="113" data-end="164"><strong data-start="113" data-end="164">
 Join us for the 45th Anniversary Terry Fox Run!</strong></p><p data-start="
 166" data-end="315">Come to the <strong data-start="178" data-end="209">Lin
 dsay Recreational Centre</strong> on <strong data-start="213" data-end="241
 ">Sunday, September 14th</strong>.<br data-start="242" data-end="245" /><st
 rong data-start="245" data-end="278">Registration opens at 9:30 AM</strong>
 , and the <strong data-start="288" data-end="314">run starts at 10:00 AM</s
 trong>.</p><p data-start="317" data-end="456">Terry Fox began a marathon to
  fight cancer — together, we can finish it.<br data-start="389" data-end="3
 92" />Help us raise funds and awareness in support of cancer research.</p><
 p data-start="458" data-end="535"><strong data-start="458" data-end="483">V
 olunteers are needed</strong> — it’s a great way to earn community service 
 hours!</p><p data-start="537" data-end="639">To register or for more inform
 ation, contact <strong data-start="582" data-end="607">Mario at 705-768-329
 7</strong>, or just show up and fundraise!</p>
CONTACT:Mario 705-738-3297
X-EXTRAINFO:Please promote as much as possible. Thank you very much,\nMario 
DTSTAMP:20260422T213904
DTSTART:20250914T093000
DTEND:20250914T113000
SEQUENCE:0
TRANSP:OPAQUE
END:VEVENT
END:VCALENDAR