BEGIN:VCALENDAR
VERSION:2.0
PRODID:-//jEvents 2.0 for Joomla//EN
CALSCALE:GREGORIAN
METHOD:PUBLISH
BEGIN:VEVENT
UID:4652041c87d5adc18d3adcfa6bdd505f
CATEGORIES:Community Events
CREATED:20250904T134105
SUMMARY:Couture for Kids 
LOCATION:Celebrations Lindsay (35 Lindsay St. N.) in Lindsay
DESCRIPTION:Five Counties is excited to host its second annual Couture for Kids fashion
  show fundraiser. The fashion show will feature clothing from local clothin
 g stores, including: Brittany N Bros, Bonita Clothing &amp; Co, Cathy Allan
  Ladieswear, John G’s, Homethreads Boutique, The Lingerie Loft, Lizzy’s by 
 Cathy Allan, and Nisbett’s Clothiers. Come out for a night filled with fash
 ion, raffles and fun! Tickets are $25 and can be purchased from any of the 
 participating stores, online.  (https://interland3.donorperfect.net/weblink
 /weblink.aspx?name=E345538QE&amp;id=22)\n
X-ALT-DESC;FMTTYPE=text/html:<p>Five Counties is excited to host its second annual Couture for Kids fash
 ion show fundraiser. The fashion show will feature clothing from local clot
 hing stores, including: Brittany N Bros, Bonita Clothing &amp; Co, Cathy Al
 lan Ladieswear, John G’s, Homethreads Boutique, The Lingerie Loft, Lizzy’s 
 by Cathy Allan, and Nisbett’s Clothiers. Come out for a night filled with f
 ashion, raffles and fun! Tickets are $25 and can be purchased from any of t
 he participating stores, <a href="https://interland3.donorperfect.net/webli
 nk/weblink.aspx?name=E345538QE&amp;id=22" target="_blank" rel="noopener ext
 ernal noreferrer" data-wpel-link="external">online. </a></p>
CONTACT:This email address is being protected from spambots. You need JavaScript enabled to view it.
DTSTAMP:20260422T201113
DTSTART:20251002T180000
DTEND:20251002T220000
SEQUENCE:0
TRANSP:OPAQUE
END:VEVENT
END:VCALENDAR