BEGIN:VCALENDAR
VERSION:2.0
PRODID:-//jEvents 2.0 for Joomla//EN
CALSCALE:GREGORIAN
METHOD:PUBLISH
BEGIN:VEVENT
UID:614310c1916e2502131f9330124e8363
CATEGORIES:Community Events
CREATED:20250904T150027
SUMMARY:Rosedale Corn Roast/Kids Fishing Derby
LOCATION:Rosedale Parkette- Coldstream&amp;Bridge Sts\, Rosedale
DESCRIPTION:The Residents of Rosedale are holding a Free Community Event in the Parkett
 e Saturday September 6th, 2-4 pm(raindate Sunday September 7th, 2-4pm).Ther
 e is great fun for the kids with the Kids Fishing Derby. All participants r
 eceive a prize and an ice cream cone. There is also a kids colouring contes
 t  an a guess the number of jelly beans contest!  We will have Corn on the 
 Cob from Shadow Valley Farm and sizzling hot dogs for all.  Enjoy the after
 noon chatting with friends and neighbours while challenging them to a game 
 of Cornhole or Horseshoes. Come out to Rosedale on Saturday September 6th, 
 2-4 pm. Rosedale Parkette, Bridge and Coldstream Roads, north of the Trent 
 Canal. \n
X-ALT-DESC;FMTTYPE=text/html:<blockquote><div dir="ltr"><div dir="ltr"><div><div>The Residents of Roseda
 le are holding a Free Community Event in the Parkette <span dir="ltr">Satur
 day September 6th, 2-4 pm</span>(raindate <span dir="ltr">Sunday September 
 7th, 2-4pm</span>).<div>There is great fun for the kids with the Kids Fishi
 ng Derby. All participants receive a prize and an ice cream cone. There is 
 also a kids colouring contest  an a guess the number of jelly beans contest
 !  We will have Corn on the Cob from Shadow Valley Farm and sizzling hot do
 gs for all.  Enjoy the afternoon chatting with friends and neighbours while
  challenging them to a game of Cornhole or Horseshoes. </div><div>Come out 
 to Rosedale <span dir="ltr">on Saturday September 6th, 2-4 pm</span>. Rosed
 ale Parkette, Bridge and Coldstream Roads, north of the Trent Canal.</div><
 /div></div></div></div></blockquote><p> </p>
CONTACT:Richard Braniff/Jenny Scott
DTSTAMP:20260422T213945
DTSTART:20250906T140000
DTEND:20250906T160000
SEQUENCE:0
TRANSP:OPAQUE
END:VEVENT
END:VCALENDAR