BEGIN:VCALENDAR
VERSION:2.0
PRODID:-//jEvents 2.0 for Joomla//EN
CALSCALE:GREGORIAN
METHOD:PUBLISH
BEGIN:VEVENT
UID:8d45dfd1b28f070805e6381492ee61b5
CATEGORIES:Community Events
CREATED:20250911T022950
SUMMARY:Music in the Hall Concert Series presents Rob Phillips and Carling Stephen
LOCATION:All Saints’ Peterborough\, Upper Community Hall at 235 Rubidge St
DESCRIPTION:All Saints’ Peterborough is pleased to announce the upcoming concert in the
  series Music in the Hall.  As part of their 150th Anniversary Celebration,
  in partnership with Maars Music, they will host a night of community and m
 usic featuring performances by Rob Phillips and Carling Stephens.\nThis eve
 ning promises an unforgettable blend of music, community spirit, and the fe
 el of an evening in a French café. The concert begins at 7 pm, doors openin
 g at 6:30 pm. with tickets priced at $25. Enjoy refreshments from our conce
 ssion stand, with proceeds supporting the 150th anniversary fundraising eff
 orts. \nTickets can be purchased via our website (www.allsaintspeterborough
 .org (http://www.allsaintspeterborough.org)) and at the door.  Get your tic
 kets now and be part of this milestone celebration!\nWHEN: Saturday, Septem
 ber 20, 2025\nTIME: 7 pm\nWHERE: All Saints’ Peterborough, Upper Community 
 Hall at 235 Rubidge St\n
X-ALT-DESC;FMTTYPE=text/html:<p>All Saints’ Peterborough is pleased to announce the upcoming concert in 
 the series <i>Music in the Hall.<span class="Apple-converted-space"> </span
 ></i> As part of their 150th Anniversary Celebration, in partnership with M
 aars Music, they will host a night of community and music featuring perform
 ances by Rob Phillips and Carling Stephens.</p><p>This evening promises an 
 unforgettable blend of music, community spirit, and the feel of an evening 
 in a French café. The concert begins at 7 pm, doors opening at 6:30 pm. wit
 h tickets priced at $25. Enjoy refreshments from our concession stand, with
  proceeds supporting the 150th anniversary fundraising efforts. </p><p>Tick
 ets can be purchased via our website (<a href="http://www.allsaintspeterbor
 ough.org">www.allsaintspeterborough.org</a>) and at the door.<span class="A
 pple-converted-space">  </span>Get your tickets now and be part of this mil
 estone celebration!</p><p><b>WHEN: </b>Saturday, September 20, 2025</p><p><
 b>TIME: </b>7 pm</p><p><b>WHERE: </b>All Saints’ Peterborough,<span class="
 Apple-converted-space"> </span>Upper Community Hall at 235 Rubidge St</p>
CONTACT:Samantha Caravan
DTSTAMP:20260422T214027
DTSTART:20250920T190000
DTEND:20250920T204500
SEQUENCE:0
TRANSP:OPAQUE
END:VEVENT
END:VCALENDAR