BEGIN:VCALENDAR
VERSION:2.0
PRODID:-//jEvents 2.0 for Joomla//EN
CALSCALE:GREGORIAN
METHOD:PUBLISH
BEGIN:VEVENT
UID:5e1b64291225c93feb6878bfb4b4b925
CATEGORIES:Community Events
CREATED:20250915T153836
SUMMARY:Chimo's 50th Anniversary
LOCATION:107 Lindsay St. South\, Lindsay
DESCRIPTION:Chimo Youth &amp; Family Services will be celebrating 50 years of service i
 n the community on October 4, 2025, with a drop-in open house celebration. 
  The event is 11am-2pm with speeches starting at 11:30am.  There will be fo
 od, drink, and activities for kids.  The celebration will be at 107 Lindsay
  St. South in Lindsay at Chimo's entrance on the North side of the building
 .  \n
X-ALT-DESC;FMTTYPE=text/html:<p>Chimo Youth &amp; Family Services will be celebrating 50 years of servic
 e in the community on October 4, 2025, with a drop-in open house celebratio
 n.  The event is 11am-2pm with speeches starting at 11:30am.  There will be
  food, drink, and activities for kids.  The celebration will be at 107 Lind
 say St. South in Lindsay at Chimo's entrance on the North side of the build
 ing.  </p>
CONTACT:Ashley Kulla
DTSTAMP:20260423T093352
DTSTART:20251004T110000
DTEND:20251004T140000
SEQUENCE:0
TRANSP:OPAQUE
END:VEVENT
END:VCALENDAR