BEGIN:VCALENDAR
VERSION:2.0
PRODID:-//jEvents 2.0 for Joomla//EN
CALSCALE:GREGORIAN
METHOD:PUBLISH
BEGIN:VEVENT
UID:94ebb822c1a4e63cce2a0e65dd05e616
CATEGORIES:Community Events
CREATED:20250915T182926
SUMMARY:St. Paul's Murder Mystery Dinner Oct. 25/25
LOCATION:St. Paul's Anglican Church\, Lindsay
DESCRIPTION:Get your tickets for our annual Murder Mystery Dinner happening on Oct. 25,
  2025!\nAn evening of mystery and intrigue, food and fun!\nTickets are $65.
 00 and available at St. Paul's Anglican Church.\nFor reserved seating call:
   705 324-6257\n \n
X-ALT-DESC;FMTTYPE=text/html:<p>Get your tickets for our annual <em><strong>Murder Mystery Dinner</stron
 g></em> happening on Oct. 25, 2025!</p><p>An evening of mystery and intrigu
 e, food and fun!</p><p>Tickets are $65.00 and available at St. Paul's Angli
 can Church.</p><p>For reserved seating call:  705 324-6257</p><p> </p>
CONTACT:Church office: 705 324-4666
DTSTAMP:20260423T010914
DTSTART:20251025T183000
DTEND:20251025T213000
SEQUENCE:0
TRANSP:OPAQUE
END:VEVENT
END:VCALENDAR