BEGIN:VCALENDAR
VERSION:2.0
PRODID:-//jEvents 2.0 for Joomla//EN
CALSCALE:GREGORIAN
METHOD:PUBLISH
BEGIN:VEVENT
UID:aeadde9a631e00ae56679b69b7c0655d
CATEGORIES:Community Events
CREATED:20250916T173702
SUMMARY:2025 United Way Haliburton Kawartha Lakes Campaign Kick Off
LOCATION:The Barder Shop - 5 Cambridge Street S in Lindsay
DESCRIPTION:United Way Haliburton Kawartha Lakes Kicks Off 2025-2026 Campaign with Comm
 unity Event at The Barder Shop\nLindsay, ON – United Way for the City of Ka
 wartha Lakes and Haliburton County is excited to launch its 2025-2026 Commu
 nity Campaign with a special evening event on Thursday, October 2, 2025, at
  The Barder Shop, 5 Cambridge Street South, Lindsay.\nThe event begins at 5
 :00 PM and will bring together community members, partners, and supporters 
 to celebrate the impact of United Way’s recent work and unveil goals for th
 e upcoming campaign season.\nTickets are $20 per person (limited availabili
 ty) and include light refreshments and fresh pizza. A custom United Way-the
 med Italian soda will also be available for purchase.\nThe evening will fea
 ture the introduction of this year’s Campaign Chair, Barbara Doyle, Managin
 g Director of the Kawartha Lakes Museum and Archives. Barbara brings extens
 ive experience in community engagement and advocacy and will speak on the c
 ampaign's focus for the year.\n“This event is more than just a launch—it’s 
 a celebration of the incredible work happening in our community,” said Shan
 tal Ingram, Co-Executive Director of United Way HKL. “We’re excited to welc
 ome Barbara Doyle and share our vision for the year ahead.”\nReserve your s
 pot early—tickets are expected to sell quickly.\nFor tickets or more inform
 ation, contact Michael Giese at (705) 878-5081 or This email address is bei
 ng protected from spambots. You need JavaScript enabled to view it.. Or pur
 chase directly: https://www.canadahelps.org/en/charities/united-way-for-the
 -city-of-kawartha-lakes/events/united-way-hkl-annual-campaign-launch (https
 ://www.canadahelps.org/en/charities/united-way-for-the-city-of-kawartha-lak
 es/events/united-way-hkl-annual-campaign-launch)\nAbout United Way HKL\nUni
 ted Way Haliburton Kawartha Lakes brings people and resources together to r
 educe poverty and strengthen community well-being by supporting local organ
 izations and initiatives\n
X-ALT-DESC;FMTTYPE=text/html:<p><strong>United Way Haliburton Kawartha Lakes Kicks Off 2025-2026 Campaig
 n with Community Event at The Barder Shop</strong></p><p><strong>Lindsay, O
 N</strong> – United Way for the City of Kawartha Lakes and Haliburton Count
 y is excited to launch its <strong>2025-2026 Community Campaign</strong> wi
 th a special evening event on <strong>Thursday, October 2, 2025</strong>, a
 t <strong>The Barder Shop</strong>, 5 Cambridge Street South, Lindsay.</p><
 p>The event begins at <strong>5:00 PM</strong> and will bring together comm
 unity members, partners, and supporters to celebrate the impact of United W
 ay’s recent work and unveil goals for the upcoming campaign season.</p><p><
 strong>Tickets are $20 per person</strong> (limited availability) and inclu
 de light refreshments and fresh pizza. A custom United Way-themed Italian s
 oda will also be available for purchase.</p><p>The evening will feature the
  introduction of this year’s Campaign Chair, <strong>Barbara Doyle</strong>
 , Managing Director of the Kawartha Lakes Museum and Archives. Barbara brin
 gs extensive experience in community engagement and advocacy and will speak
  on the campaign's focus for the year.</p><p>“This event is more than just 
 a launch—it’s a celebration of the incredible work happening in our communi
 ty,” said <strong>Shantal Ingram</strong>, Co-Executive Director of United 
 Way HKL. “We’re excited to welcome Barbara Doyle and share our vision for t
 he year ahead.”</p><p><strong>Reserve your spot early—tickets are expected 
 to sell quickly.</strong></p><p>For tickets or more information, contact <s
 trong>Michael Giese</strong> at (705) 878-5081 or <joomla-hidden-mail  is-l
 ink="1" is-email="1" first="bWlrZQ==" last="Y2tsLnVuaXRlZHdheS5jYQ==" text=
 "bWlrZUBja2wudW5pdGVkd2F5LmNh" base="" >This email address is being protect
 ed from spambots. You need JavaScript enabled to view it.</joomla-hidden-ma
 il>. Or purchase directly: <a title="UWHKL CAMPAIGN KICK OFF" href="https:/
 /www.canadahelps.org/en/charities/united-way-for-the-city-of-kawartha-lakes
 /events/united-way-hkl-annual-campaign-launch">https://www.canadahelps.org/
 en/charities/united-way-for-the-city-of-kawartha-lakes/events/united-way-hk
 l-annual-campaign-launch</a></p><p><strong>About United Way HKL</strong><br
  />United Way Haliburton Kawartha Lakes brings people and resources togethe
 r to reduce poverty and strengthen community well-being by supporting local
  organizations and initiatives</p>
CONTACT:This email address is being protected from spambots. You need JavaScript enabled to view it.
X-EXTRAINFO:Purchase tickets here:  https://www.canadahelps.org/en/charities/united-way
 -for-the-city-of-kawartha-lakes/events/united-way-hkl-annual-campaign-launc
 h 
DTSTAMP:20260422T201222
DTSTART:20251002T170000
DTEND:20251002T183000
SEQUENCE:0
TRANSP:OPAQUE
END:VEVENT
END:VCALENDAR