BEGIN:VCALENDAR
VERSION:2.0
PRODID:-//jEvents 2.0 for Joomla//EN
CALSCALE:GREGORIAN
METHOD:PUBLISH
BEGIN:VEVENT
UID:551ff72912b4189c7b557ced9b325363
CATEGORIES:Community Events
CREATED:20250916T182340
SUMMARY:Volunteer Fair - hosted by United Way Haliburton Kawartha Lakes & Big Brothers Big Sisters
LOCATION:Lindsay Exhibition Commonwell Building 354 Angeline Street S
DESCRIPTION:Connect. Contribute. Make a Difference.\nVolunteer Fair Coming to Kawartha 
 Lakes – October 15, 2025\nLindsay, ON – United Way Haliburton Kawartha Lake
 s and Big Brothers Big Sisters are proud to host a Volunteer Fair on Wednes
 day, October 15th, 2025, from 2:00 PM to 7:00 PM at The Lindsay Exhibition 
 (LEX) Commonwell Building, 354 Angeline Street South, Lindsay.\nThis free e
 vent for potential volunteers is open to everyone and will bring together o
 rganizations from across the City of Kawartha Lakes (CKL) to showcase a wid
 e variety of volunteer opportunities. Whether you’re looking to lend your s
 kills, explore a new passion, or give back in a meaningful way, the Volunte
 er Fair is your chance to find the perfect fit.\nWhat to Expect:\n\n - Meet
  many local organizations face-to-face\n - Explore volunteer roles across s
 ectors including youth, seniors, environment, arts, and more\n - Match your
  passion and skills with causes that need you\n - Free training sessions he
 ld throughout the event to help you prepare and succeed as a volunteerCalli
 ng All Organizations!\nLocal organizations looking to recruit volunteers ar
 e invited to participate in the event. To reserve a space or learn more, pl
 ease contact Mike at This email address is being protected from spambots. Y
 ou need JavaScript enabled to view it..\nDon’t miss this opportunity to con
 nect, contribute, and make a difference. Join us on October 15th at the LEX
  Commonwell Building and help build a stronger CKL through volunteerism.\n
X-ALT-DESC;FMTTYPE=text/html:<p><strong>Connect. Contribute. Make a Difference.</strong></p><p><strong>V
 olunteer Fair Coming to Kawartha Lakes – October 15, 2025</strong></p><p><s
 trong>Lindsay, ON –</strong> United Way Haliburton Kawartha Lakes and Big B
 rothers Big Sisters are proud to host a <strong>Volunteer Fair</strong> on 
 <strong>Wednesday, October 15th, 2025</strong>, from <strong>2:00 PM to 7:0
 0 PM</strong> at <strong>The Lindsay Exhibition (LEX) Commonwell Building, 
 354 Angeline Street South, Lindsay</strong>.</p><p>This free event for pote
 ntial volunteers is open to everyone and will bring together <strong>organi
 zations from across the City of Kawartha Lakes (CKL)</strong> to showcase a
  wide variety of <strong>volunteer opportunities</strong>. Whether you’re l
 ooking to lend your skills, explore a new passion, or give back in a meanin
 gful way, the Volunteer Fair is your chance to find the perfect fit.</p><p>
 <strong>What to Expect:</strong></p><ul><li><strong>Meet many local organiz
 ations</strong> face-to-face</li><li><strong>Explore volunteer roles</stron
 g> across sectors including youth, seniors, environment, arts, and more</li
 ><li><strong>Match your passion and skills</strong> with causes that need y
 ou</li><li><strong>Free training sessions</strong> held throughout the even
 t to help you prepare and succeed as a volunteer</li></ul><p><strong>Callin
 g All Organizations!</strong></p><p>Local organizations looking to recruit 
 volunteers are invited to participate in the event. To reserve a space or l
 earn more, please contact <strong>Mike at <joomla-hidden-mail  is-link="1" 
 is-email="1" first="bWlrZQ==" last="Y2tsLnVuaXRlZHdheS5jYQ==" text="bWlrZUB
 ja2wudW5pdGVkd2F5LmNh" base="" >This email address is being protected from 
 spambots. You need JavaScript enabled to view it.</joomla-hidden-mail></str
 ong>.</p><p>Don’t miss this opportunity to <strong>connect, contribute, and
  make a difference</strong>. Join us on <strong>October 15th</strong> at th
 e <strong>LEX Commonwell Building</strong> and help build a stronger CKL th
 rough volunteerism.</p>
CONTACT:This email address is being protected from spambots. You need JavaScript enabled to view it.
DTSTAMP:20260423T182431
DTSTART:20251015T140000
DTEND:20251015T190000
SEQUENCE:0
TRANSP:OPAQUE
END:VEVENT
END:VCALENDAR