BEGIN:VCALENDAR
VERSION:2.0
PRODID:-//jEvents 2.0 for Joomla//EN
CALSCALE:GREGORIAN
METHOD:PUBLISH
BEGIN:VEVENT
UID:d70a5276586950efe69923f26e0bd801
CATEGORIES:Community Events
CREATED:20250923T175506
SUMMARY:East Central Therapy Dogs
LOCATION:1500 Lansdowne St. W.\, Peterborough
DESCRIPTION:Is your dog friendly?  Doesn't jump up? Are you able to commit to a weekly,
  one-hour visit with your therapy dog to one of our client's sites, local n
 ursing and retirement homes, and hospitals?\nOctober 1 - Information Evenin
 g - 7-8 p.m.\nOctober 18 - *Fall Evaluation Testing - 9 a.m. - 12 p.m. - Fo
 r your dog to become a therapy dog.\nOctober 22 - Orientation - 7-8:30 p.m.
  - Mandatory to attend when your dog passes the evaluation test.\nAbove eve
 nts all held at Applewood Retirement Residence, 1500 LAnsdowne St., W., Pet
 erborough. Visit East Central Therapy Dogs website, www.ectd.ca (http://www
 .ectd.ca) for more info, registration and *payment of registration.  *Regis
 tration Fee, $20.00 to defray costs.\n \n \n
X-ALT-DESC;FMTTYPE=text/html:<p>Is your dog friendly?  Doesn't jump up? Are you able to commit to a week
 ly, one-hour visit with your therapy dog to one of our client's sites, loca
 l nursing and retirement homes, and hospitals?</p><p>October 1 - <strong>In
 formation Evening</strong> - 7-8 p.m.</p><p>October 18 - *<strong>Fall Eval
 uation Testing</strong> - 9 a.m. - 12 p.m. - For your dog to become a thera
 py dog.</p><p>October 22 - <strong>Orientation</strong> - 7-8:30 p.m. - <st
 rong>Mandatory</strong> to attend when your dog passes the evaluation test.
 </p><p>Above events all held at Applewood Retirement Residence, 1500 LAnsdo
 wne St., W., Peterborough. Visit East Central Therapy Dogs website, <a href
 ="http://www.ectd.ca">www.ectd.ca</a> for more info, registration and *paym
 ent of registration.  *Registration Fee, $20.00 to defray costs.</p><p> </p
 ><p> </p>
CONTACT:This email address is being protected from spambots. You need JavaScript enabled to view it.
DTSTAMP:20260422T201145
DTSTART:20251001T190000
DTEND:20251001T200000
SEQUENCE:0
TRANSP:OPAQUE
END:VEVENT
END:VCALENDAR