BEGIN:VCALENDAR
VERSION:2.0
PRODID:-//jEvents 2.0 for Joomla//EN
CALSCALE:GREGORIAN
METHOD:PUBLISH
BEGIN:VEVENT
UID:92fe22cc005c2a1f9d169f91e13980d4
CATEGORIES:Community Events
CREATED:20250923T183119
SUMMARY:A CELEBRATION OF OZZY: Crazy Babies
LOCATION: 2 Lindsay Street South\, Lindsay\, ON\, Canada\, Ontario
DESCRIPTION:A CELEBRATION OF OZZY: Crazy Babies LIVE in Lindsay, ONThe Ultimate Ozzy Os
 bourne Experience: Sons of Sabbath with Rod Clarke's Crazy Babies (https://
 www.facebook.com/profile.php?id=61580497343743)Step into the world of the P
 rince of Darkness with "Back to the Beginnings," an electrifying theatrical
  tribute that brings the full Ozzy Osbourne experience to life. Fronted by 
 Rod, a performer so dedicated that he has received Ozzy's personal blessing
 , Sons of Sabbath are North America's longest-running Ozzy and Black Sabbat
 h tribute. Tickets (https://ci.ovationtix.com/36707/production/1252202?perf
 ormanceId=11696722)
X-ALT-DESC;FMTTYPE=text/html:<div class="xdj266r x14z9mp xat24cr x1lziwak x1vvkbs">A CELEBRATION OF OZZY
 : Crazy Babies LIVE in Lindsay, ON</div><div class="x14z9mp xat24cr x1lziwa
 k x1vvkbs xtlvy1s">The Ultimate Ozzy Osbourne Experience: Sons of Sabbath w
 ith <a href="https://www.facebook.com/profile.php?id=61580497343743" target
 ="_blank" rel="noopener">Rod Clarke's Crazy Babies</a></div><div class="x14
 z9mp xat24cr x1lziwak x1vvkbs xtlvy1s">Step into the world of the Prince of
  Darkness with "Back to the Beginnings," an electrifying theatrical tribute
  that brings the full Ozzy Osbourne experience to life. Fronted by Rod, a p
 erformer so dedicated that he has received Ozzy's personal blessing, Sons o
 f Sabbath are North America's longest-running Ozzy and Black Sabbath tribut
 e.</div><div class="x14z9mp xat24cr x1lziwak x1vvkbs xtlvy1s"> </div><div c
 lass="x14z9mp xat24cr x1lziwak x1vvkbs xtlvy1s"><a href="https://ci.ovation
 tix.com/36707/production/1252202?performanceId=11696722" target="_blank" re
 l="noopener">Tickets</a></div>
DTSTAMP:20260423T113055
DTSTART:20251018T200000
SEQUENCE:0
TRANSP:OPAQUE
END:VEVENT
END:VCALENDAR