BEGIN:VCALENDAR
VERSION:2.0
PRODID:-//jEvents 2.0 for Joomla//EN
CALSCALE:GREGORIAN
METHOD:PUBLISH
BEGIN:VEVENT
UID:ac39fa47b6f899d887e714ceb002aab2
CATEGORIES:Community Events
CREATED:20250924T013802
SUMMARY:Line Dance Workshop
LOCATION:Mapleridge Recreation Centre\, 1085 Brealey Drive\, Peterborough K9K 0C1 ON
  
DESCRIPTION:Line Dance Workshops at Mapleridge Recreation Centre (https://www.facebook.
 com/groups/364115104641030/user/100064874520558/?__cft__[0]=AZU2Hl6s6GbxRfF
 laMJDKZc1-5Lid_9M0qnTWqHto257cpbZJOQg8c-cNF1L0YJ4NzcM4ziu698kVKMb90GWHUHKNJ
 QlmYyiTq0qBjZMyrtSrsaK7RVXcYbBp_CgAdDJ8hp8vHSufuOXclkxsRWgrMb1HriJ48IFvgQug
 gDrFvMqCaBhcLuhm16X111FeohvSLfT9ymSuPAEip-qdHH42ajX&amp;__tn__=-]K-R) 1085 
 Brealey Drive, Peterborough Saturdays September 27, October 25 &amp; Novemb
 er 22. Beginners 10:00 - 11:30 am $10, Beginners+/Intermediate 11:30-1:00 p
 m $10, both sessions $15. Call 705-742-1481 to register (preferred), pay at
  door if space permits. All are welcome!\n
X-ALT-DESC;FMTTYPE=text/html:<p>Line Dance Workshops at <span class="html-span xdj266r x14z9mp xat24cr x
 1lziwak xexx8yu xyri2b x18d9i69 x1c1uobl x1hl2dhg x16tdsg8 x1vvkbs"><a clas
 s="x1i10hfl xjbqb8w x1ejq31n x18oe1m7 x1sy0etr xstzfhl x972fbf x10w94by x1q
 hh985 x14e42zd x9f619 x1ypdohk xt0psk2 x3ct3a4 xdj266r x14z9mp xat24cr x1lz
 iwak xexx8yu xyri2b x18d9i69 x1c1uobl x16tdsg8 x1hl2dhg xggy1nq x1a2a7pz xk
 rqix3 x1sur9pj x1fey0fg x1s688f" tabindex="0" role="link" href="https://www
 .facebook.com/groups/364115104641030/user/100064874520558/?__cft__[0]=AZU2H
 l6s6GbxRfFlaMJDKZc1-5Lid_9M0qnTWqHto257cpbZJOQg8c-cNF1L0YJ4NzcM4ziu698kVKMb
 90GWHUHKNJQlmYyiTq0qBjZMyrtSrsaK7RVXcYbBp_CgAdDJ8hp8vHSufuOXclkxsRWgrMb1Hri
 J48IFvgQuggDrFvMqCaBhcLuhm16X111FeohvSLfT9ymSuPAEip-qdHH42ajX&amp;__tn__=-]
 K-R"><span class="xt0psk2"><span class="xjp7ctv">Mapleridge Recreation Cent
 re</span></span></a></span> 1085 Brealey Drive, Peterborough Saturdays Sept
 ember 27, October 25 &amp; November 22. Beginners 10:00 - 11:30 am $10, Beg
 inners+/Intermediate 11:30-1:00 pm $10, both sessions $15. Call 705-742-148
 1 to register (preferred), pay at door if space permits. All are welcome!</
 p>
CONTACT:705-742-1481
DTSTAMP:20260422T201120
DTSTART:20250927T100000
DTEND:20250927T130000
SEQUENCE:0
TRANSP:OPAQUE
END:VEVENT
END:VCALENDAR