BEGIN:VCALENDAR
VERSION:2.0
PRODID:-//jEvents 2.0 for Joomla//EN
CALSCALE:GREGORIAN
METHOD:PUBLISH
BEGIN:VEVENT
UID:e37bce71d65ae188e94780235503edb1
CATEGORIES:Community Events
CREATED:20250925T184751
SUMMARY:Castleton United Church Roast Pork Dinner Fundraiser
LOCATION:Castleton United Church 1815 Percy St. Castleton ON 
DESCRIPTION:Castleton United Church Roast Pork Dinner Fundraiser\nSaturday, November 1,
  2025\n1815 Percy St. Castleton ON K0K 1M0\n2 Sittings 5 pm and 6:30 pm\nAd
 ults $25\nChild ages 6 to 12 years $10\nages 5 &amp; under Free Admission\n
 Tickets available by calling Marion 905 375 8155\nPlease purchase or order 
 your tickets in advance \n \n
X-ALT-DESC;FMTTYPE=text/html:<p>Castleton United Church Roast Pork Dinner Fundraiser</p><p>Saturday, Nov
 ember 1, 2025</p><p>1815 Percy St. Castleton ON K0K 1M0</p><p>2 Sittings 5 
 pm and 6:30 pm</p><p>Adults $25</p><p>Child ages 6 to 12 years $10</p><p>ag
 es 5 &amp; under Free Admission</p><p>Tickets available by calling Marion 9
 05 375 8155</p><p>Please purchase or order your tickets in advance </p><p> 
 </p>
CONTACT:Marion McComb
DTSTAMP:20260422T182011
DTSTART:20251101T170000
DTEND:20251101T183000
SEQUENCE:0
TRANSP:OPAQUE
END:VEVENT
END:VCALENDAR