BEGIN:VCALENDAR
VERSION:2.0
PRODID:-//jEvents 2.0 for Joomla//EN
CALSCALE:GREGORIAN
METHOD:PUBLISH
BEGIN:VEVENT
UID:d5e459020c6f0f50d47708ccc7084162
CATEGORIES:Community Events
CREATED:20250926T224419
SUMMARY:Fun Euchre Night for THRIL
LOCATION:Lindsay Curling Club
DESCRIPTION:A fun night of fun and fundraising for the charity, Therapeutic Horse Ridin
 g In Lindsay, a local non-profit dedicated to helping those with disabiliti
 es and challenges with horses and ponies. Pre-registration preferred  - ema
 il This email address is being protected from spambots. You need JavaScript
  enabled to view it. for more information and e-transfer $40 per person to 
 reserve your spot!\nhttps://www.facebook.com/photo?fbid=1359717099493343&am
 p;set=a.381293380669058\n
X-ALT-DESC;FMTTYPE=text/html:<p>A fun night of fun and fundraising for the charity, Therapeutic Horse Ri
 ding In Lindsay, a local non-profit dedicated to helping those with disabil
 ities and challenges with horses and ponies. Pre-registration preferred  - 
 email <joomla-hidden-mail  is-link="1" is-email="1" first="aW5mb0E=" last="
 dGhyaWwuY2E=" text="aW5mb0B0aHJpbC5jYQ==" base="" >This email address is be
 ing protected from spambots. You need JavaScript enabled to view it.</jooml
 a-hidden-mail> for more information and e-transfer $40 per person to reserv
 e your spot!</p><p><a title="Euchre Night for THRIL" href="https://www.face
 book.com/photo?fbid=1359717099493343&amp;set=a.381293380669058" target="_bl
 ank" rel="noopener">https://www.facebook.com/photo?fbid=1359717099493343&am
 p;set=a.381293380669058</a></p>
CONTACT:Kelly Russell
X-EXTRAINFO:5 30 Registration\n6 pm Pizza Salad Dessert \n7 pm Play Euchre\n9 pm Fun an
 d Prizes\n\n
DTSTAMP:20260422T182134
DTSTART:20251108T173000
DTEND:20251108T220000
SEQUENCE:0
TRANSP:OPAQUE
END:VEVENT
END:VCALENDAR