BEGIN:VCALENDAR
VERSION:2.0
PRODID:-//jEvents 2.0 for Joomla//EN
CALSCALE:GREGORIAN
METHOD:PUBLISH
BEGIN:VEVENT
UID:961764bd1a2ba8af58992b930fa72b86
CATEGORIES:Community Events
CREATED:20250927T182943
SUMMARY:Counselling Connection Open House (A Family Friendly Event)
LOCATION:169 Lansdowne Street E Peterborough
DESCRIPTION:Counselling Connection Open House (A family friendly event)\nWe are celebra
 ting the expansion of our psychotherapy clinic to Peterborough.\nYou are in
 vited to share in our celebration, and to learn what we are about. This is 
 a drop-in event with snacks and activities for both children and adults.\nI
 f you are wondering what psychotherapy is about, this is an excellent oppor
 tunity to learn more in a relaxed environment. We look forward to meeting y
 ou!\n
X-ALT-DESC;FMTTYPE=text/html:<p><strong>Counselling Connection Open House (A family friendly event)</str
 ong></p><p>We are celebrating the expansion of our psychotherapy clinic to 
 Peterborough.</p><p>You are invited to share in our celebration, and to lea
 rn what we are about. This is a drop-in event with snacks and activities fo
 r both children and adults.</p><p>If you are wondering what psychotherapy i
 s about, this is an excellent opportunity to learn more in a relaxed enviro
 nment. We look forward to meeting you!</p>
CONTACT:This email address is being protected from spambots. You need JavaScript enabled to view it.
DTSTAMP:20260422T200756
DTSTART:20250929T160000
DTEND:20250929T180000
SEQUENCE:0
TRANSP:OPAQUE
END:VEVENT
END:VCALENDAR