BEGIN:VCALENDAR
VERSION:2.0
PRODID:-//jEvents 2.0 for Joomla//EN
CALSCALE:GREGORIAN
METHOD:PUBLISH
BEGIN:VEVENT
UID:4f1eda486438725eaf8ea9c83d2cb7aa
CATEGORIES:Community Events
CREATED:20250929T153352
SUMMARY:It's the Manager's Fault! AD/HD and Executive Functioning Challenges
LOCATION:Fieldside Yoga and Retreats
DESCRIPTION:Join us for this 90 minute interactive seminar discussing AD/HD and executi
 ve functioning.\nExecutive functioning refers to a person's ability to mana
 ge and regulate their thoughts, their behaviours, and their emotions. Child
 ren and adults with Attention Deficit/Hyperactivity Disorder (AD/HD) consis
 tently have more difficulties with self-management compared to others witho
 ut AD/HD.\n
X-ALT-DESC;FMTTYPE=text/html:<p>Join us for this 90 minute interactive seminar discussing AD/HD and exec
 utive functioning.<br />Executive functioning refers to a person's ability 
 to manage and regulate their thoughts, their behaviours, and their emotions
 . Children and adults with Attention Deficit/Hyperactivity Disorder (AD/HD)
  consistently have more difficulties with self-management compared to other
 s without AD/HD.</p>
X-EXTRAINFO:Register at https://kbitly.com/107e6l
DTSTAMP:20260423T042243
DTSTART:20251022T190000
DTEND:20251022T213000
SEQUENCE:0
TRANSP:OPAQUE
END:VEVENT
END:VCALENDAR