BEGIN:VCALENDAR
VERSION:2.0
PRODID:-//jEvents 2.0 for Joomla//EN
CALSCALE:GREGORIAN
METHOD:PUBLISH
BEGIN:VEVENT
UID:e30d139cb71cab35af5cbec5b3292a65
CATEGORIES:Community Events
CREATED:20250929T190511
SUMMARY:Head of the Trent
LOCATION:Trent University
DESCRIPTION:A weekend of world-class rowing, spirited varsity games, alumni gatherings,
  and family-fun. All are welcome! For more information, including a full sc
 hedule of events, visit: Head of the Trent - Trent University (https://www.
 trentu.ca/headofthetrent/).\n
X-ALT-DESC;FMTTYPE=text/html:<p>A weekend of world-class rowing, spirited varsity games, alumni gatherin
 gs, and family-fun. All are welcome! For more information, including a full
  schedule of events, visit: <a href="https://www.trentu.ca/headofthetrent/"
 >Head of the Trent - Trent University</a>.</p>
CONTACT:This email address is being protected from spambots. You need JavaScript enabled to view it.
DTSTAMP:20260422T201145
DTSTART:20251003T180000
DTEND:20251005T170000
SEQUENCE:0
TRANSP:OPAQUE
END:VEVENT
END:VCALENDAR