BEGIN:VCALENDAR
VERSION:2.0
PRODID:-//jEvents 2.0 for Joomla//EN
CALSCALE:GREGORIAN
METHOD:PUBLISH
BEGIN:VEVENT
UID:3a0b273bec315b558613349ea1cc20b3
CATEGORIES:Community Events
CREATED:20250929T203404
SUMMARY:Omemee Swans Christmas Craft Sale
LOCATION:Omemee Legion 46 King St. E.\, Omemee
DESCRIPTION:Omemee Swans Christmas Craft Sale, Saturday November 1, 2025 at Omemee Legi
 on 46 King St. E., Omemee. 18 vendors, raffles, lunch counter. Follow our f
 acebook page for more details\n
X-ALT-DESC;FMTTYPE=text/html:<p>Omemee Swans Christmas Craft Sale, Saturday November 1, 2025 at Omemee L
 egion 46 King St. E., Omemee. 18 vendors, raffles, lunch counter. Follow ou
 r facebook page for more details</p>
CONTACT:This email address is being protected from spambots. You need JavaScript enabled to view it.
DTSTAMP:20260422T182134
DTSTART:20251101T090000
DTEND:20251101T150000
SEQUENCE:0
TRANSP:OPAQUE
END:VEVENT
END:VCALENDAR