BEGIN:VCALENDAR
VERSION:2.0
PRODID:-//jEvents 2.0 for Joomla//EN
CALSCALE:GREGORIAN
METHOD:PUBLISH
BEGIN:VEVENT
UID:c3d8a184c68195c7df92825a01ff02cf
CATEGORIES:Community Events
CREATED:20251001T021143
SUMMARY:Line Dance Workshop @Mapleridge Recreation Centre
LOCATION:Mapleridge Recreation Centre\, 1085 Brealey Drive\, Peterborough K9K 0C1 ON
  
DESCRIPTION:Line Dance Workshops at Mapleridge Recreation Centre 1085 Brealey Drive, Pe
 terborough Saturdays October 25 &amp; November 22. Beginners 10:00 - 11:30 
 am $10, Beginners+/Intermediate 11:30-1:00 pm $10, both sessions $15. Call 
 705-742-1481 to register (preferred), pay at door if space permits. All are
  welcome!\n
X-ALT-DESC;FMTTYPE=text/html:<p><span style="color: #000000;"><span style="background-color: #ffff00;">L
 ine Dance</span></span> Workshops at Mapleridge Recreation Centre 1085 Brea
 ley Drive, Peterborough Saturdays October 25 &amp; November 22. Beginners 1
 0:00 - 11:30 am $10, Beginners+/Intermediate 11:30-1:00 pm $10, both sessio
 ns $15. Call 705-742-1481 to register (preferred), pay at door if space per
 mits. All are welcome!</p>
CONTACT:705-742-1481
DTSTAMP:20260423T010515
DTSTART:20251025T100000
DTEND:20251025T130000
SEQUENCE:0
TRANSP:OPAQUE
END:VEVENT
END:VCALENDAR