BEGIN:VCALENDAR
VERSION:2.0
PRODID:-//jEvents 2.0 for Joomla//EN
CALSCALE:GREGORIAN
METHOD:PUBLISH
BEGIN:VEVENT
UID:9077374c4794736f4905efe08ba26237
CATEGORIES:Community Events
CREATED:20251001T022526
SUMMARY:Line Dance Friday Nights @Mapleridge Recreation Centre
LOCATION:Mapleridge Recreation Centre\, 1085 Brealey Drive\, Peterborough K9K 0C1 ON
  
DESCRIPTION:Friday Oct 17 &amp; Nov 28\n7-10 pm $10 cash at the door, 50/50, cash bar. 
 Doors open at 6:30 pm\nOpen for all dance levels, non members welcome, age 
 of majority event\nDance the night away to popular &amp; classic line dance
 s, limited instruction just dance, dance, dance!\nPlaylist will be posted s
 oon!\nhttps://www.facebook.com/profile.php?id=61576821035469 \n \n
X-ALT-DESC;FMTTYPE=text/html:<p>Friday Oct 17 &amp; Nov 28</p><p>7-10 pm $10 cash at the door, 50/50, ca
 sh bar. Doors open at 6:30 pm</p><p>Open for all dance levels, non members 
 welcome, age of majority event</p><p>Dance the night away to popular &amp; 
 classic line dances, limited instruction just dance, dance, dance!</p><p>Pl
 aylist will be posted soon!</p><p><a href="https://www.facebook.com/profile
 .php?id=61576821035469">https://www.facebook.com/profile.php?id=61576821035
 469</a> </p><p> </p>
CONTACT:705-742-1481
DTSTAMP:20260423T150547
DTSTART:20251017T190000
DTEND:20251017T220000
SEQUENCE:0
TRANSP:OPAQUE
END:VEVENT
END:VCALENDAR