BEGIN:VCALENDAR
VERSION:2.0
PRODID:-//jEvents 2.0 for Joomla//EN
CALSCALE:GREGORIAN
METHOD:PUBLISH
BEGIN:VEVENT
UID:2d465b790fd8202983b1cd96c88780b2
CATEGORIES:Community Events
CREATED:20251004T050035
SUMMARY:Pumpkin Fest 2025
LOCATION:337 County Rd 21\, Millbrook
DESCRIPTION:Cody &amp; Kelsie’s Veggy Patch are excited to host another PUMPKIN FEST\nC
 orn Maze, Wagon rides, Animals and Pick your  own Pumpkin! New this year…de
 licious food from Weenie Land\nSpecial Entertainment Sundays by local music
 ian Katie Bath\nDaily features include…\nFarm Fresh Eggs, Keene Bee Honey, 
 Sargent Family Dairy Cheese Curd, Home Grown BEEF &amp; Home Grown Chicken,
  Pear, Squash, and LOTS of Fall Decor! \nDon’t miss all the excitement! \n$
 5/person or $20/carload\n337 County Rd 21, Millbrook \nOpen 10am until 4pm 
 EVERY weekend in October\nWe look forward to your visit!🎃\n
X-ALT-DESC;FMTTYPE=text/html:<p>Cody &amp; Kelsie’s Veggy Patch are excited to host another PUMPKIN FEST
 </p><p>Corn Maze, Wagon rides, Animals and Pick your &nbsp;own Pumpkin! New
  this year…delicious food from Weenie Land</p><p>Special Entertainment Sund
 ays by local musician Katie Bath</p><p>Daily features include…</p><p>Farm F
 resh Eggs, Keene Bee Honey, Sargent Family Dairy Cheese Curd, Home Grown BE
 EF &amp; Home Grown Chicken, Pear, Squash, and LOTS of Fall Decor!&nbsp;</p
 ><p>Don’t miss all the excitement! <br />$5/person or $20/carload</p><p>337
  County Rd 21, Millbrook&nbsp;</p><p>Open 10am until 4pm EVERY weekend in O
 ctober</p><p>We look forward to your visit!🎃</p>
CONTACT:Cody Armstrong 705-933-4766
DTSTAMP:20260423T092824
DTSTART:20251005T100000
DTEND:20251005T160000
SEQUENCE:0
TRANSP:OPAQUE
END:VEVENT
END:VCALENDAR