BEGIN:VCALENDAR
VERSION:2.0
PRODID:-//jEvents 2.0 for Joomla//EN
CALSCALE:GREGORIAN
METHOD:PUBLISH
BEGIN:VEVENT
UID:3dcd9e2b44a5fdb4e4e7e878e3168ad7
CATEGORIES:Community Events
CREATED:20251005T231041
SUMMARY:Peterborough Lions club Christmas Craft & Vendor Market
LOCATION:347 Burnham St. PTBO Ont
DESCRIPTION:A wide variety of handcrafted gifts and more.\nAll booth fees donated to be
 nefit the Peterborough Lions Community Centre kitchen upgrade project.\nFre
 e admission.\n
X-ALT-DESC;FMTTYPE=text/html:<p>A wide variety of handcrafted gifts and more.</p><p>All booth fees donat
 ed to benefit the Peterborough Lions Community Centre kitchen upgrade proje
 ct.</p><p>Free admission.</p>
CONTACT:Judy Jenkins
X-EXTRAINFO:E-mail: This email address is being protected from spambots. You need JavaS
 cript enabled to view it.\n\nPhone: 905-903-8946
DTSTAMP:20260422T200531
DTSTART:20251129T090000
DTEND:20251129T143000
SEQUENCE:0
TRANSP:OPAQUE
END:VEVENT
END:VCALENDAR