BEGIN:VCALENDAR
VERSION:2.0
PRODID:-//jEvents 2.0 for Joomla//EN
CALSCALE:GREGORIAN
METHOD:PUBLISH
BEGIN:VEVENT
UID:25b8b852ef5ec2e7b8856ba97ff92f90
CATEGORIES:Community Events
CREATED:20251006T024518
SUMMARY:Pumpkin Fest
LOCATION:337 County Rd 21\, Millbrook
DESCRIPTION:Pumpkin Fest at Cody &amp; Kelsie’s Veggy PatchContinues for the remaining 
 three weekends in October!\nCome out to the Millbrook area and enjoy the be
 autiful fall colours, festive activities, and farm-fresh fun at Cody &amp; 
 Kelsie’s Veggy Patch.\n🎃 Activities include:\nWalking through the festive c
 orn maze\nPicking your own pumpkin\nScenic wagon rides around the farm\n🎶 L
 ive Music:Local musician Katie Bath will be performing on Thanksgiving Satu
 rday at 2 PM, and again on the following two Sundays.\n🌭 Food Vendor:Enjoy 
 delicious eats from local favourite Weenie Land.\n🎟 Admission:\n$5 per pers
 on (ages 4 and up)\nOr bring the whole family — $20 per vehicle\n🛒 Also ava
 ilable for purchase:\nFarm Fresh Eggs\nKeene Bee Honey\nPumpkins &amp; Squa
 shHomegrown Beef &amp; Chicken\nFall decor📍 Location:337 County Rd 21, Mill
 brook\nLots to see, taste, and do — looking forward to your visit!\n \n
X-ALT-DESC;FMTTYPE=text/html:<p data-start="123" data-end="227"><strong data-start="123" data-end="170">
 Pumpkin Fest at Cody &amp; Kelsie’s Veggy Patch</strong><br data-start="170
 " data-end="173" />Continues for the remaining three weekends in October!</
 p><p data-start="229" data-end="372">Come out to the Millbrook area and enj
 oy the beautiful fall colours, festive activities, and farm-fresh fun at <s
 trong data-start="340" data-end="371">Cody &amp; Kelsie’s Veggy Patch</stro
 ng>.</p><p data-start="374" data-end="402">🎃 <strong data-start="377" data-
 end="400">Activities include:</strong></p><ul data-start="403" data-end="51
 2"><li data-start="403" data-end="444"><p data-start="405" data-end="444">W
 alking through the festive corn maze</p></li><li data-start="445" data-end=
 "473"><p data-start="447" data-end="473">Picking your own pumpkin</p></li><
 li data-start="474" data-end="512"><p data-start="476" data-end="512">Sceni
 c wagon rides around the farm</p></li></ul><p data-start="514" data-end="66
 5">🎶 <strong data-start="517" data-end="532">Live Music:</strong><br data-s
 tart="532" data-end="535" />Local musician <strong data-start="550" data-en
 d="564">Katie Bath</strong> will be performing on <strong data-start="587" 
 data-end="620">Thanksgiving Saturday at 2 PM</strong>, and again on the <st
 rong data-start="639" data-end="664">following two Sundays</strong>.</p><p 
 data-start="667" data-end="747">🌭 <strong data-start="670" data-end="686">F
 ood Vendor:</strong><br data-start="686" data-end="689" />Enjoy delicious e
 ats from local favourite <strong data-start="731" data-end="746">Weenie Lan
 d</strong>.</p><p data-start="749" data-end="768">🎟 <strong data-start="752
 " data-end="766">Admission:</strong></p><ul data-start="769" data-end="848"
 ><li data-start="769" data-end="802"><p data-start="771" data-end="802">$5 
 per person (ages 4 and up)</p></li><li data-start="803" data-end="848"><p d
 ata-start="805" data-end="848">Or bring the whole family — $20 per vehicle<
 /p></li></ul><p data-start="850" data-end="887">🛒 <strong data-start="853" 
 data-end="885">Also available for purchase:</strong></p><ul data-start="888
 " data-end="954"><li data-start="888" data-end="907"><p data-start="890" da
 ta-end="907">Farm Fresh Eggs</p></li><li data-start="908" data-end="927"><p
  data-start="910" data-end="927">Keene Bee Honey</p></li><li data-start="90
 8" data-end="927">Pumpkins &amp; Squash</li><li data-start="928" data-end="
 954"><p data-start="930" data-end="954">Homegrown Beef &amp; Chicken</p></l
 i><li data-start="928" data-end="954">Fall decor</li></ul><p data-start="95
 6" data-end="1002">📍 <strong data-start="959" data-end="972">Location:</str
 ong><br data-start="972" data-end="975" />337 County Rd 21, Millbrook</p><p
  data-start="1004" data-end="1058">Lots to see, taste, and do — looking for
 ward to your visit!</p><p>&nbsp;</p>
CONTACT:Kelly Armstrong
DTSTAMP:20260423T113444
DTSTART:20251018T080000
DTEND:20251018T170000
SEQUENCE:0
TRANSP:OPAQUE
END:VEVENT
END:VCALENDAR