BEGIN:VCALENDAR
VERSION:2.0
PRODID:-//jEvents 2.0 for Joomla//EN
CALSCALE:GREGORIAN
METHOD:PUBLISH
BEGIN:VEVENT
UID:80518d7a4eb99ee4acd3eca175b5eedf
CATEGORIES:Community Events
CREATED:20251006T193232
SUMMARY:Buckhorn Harvest Craft Show
LOCATION:Buckhorn Community Centre\, 1782 Lakehurst Road\, Buckhorn K0L1J0
DESCRIPTION:The Buckhorn Community Centre hosts the annual Buckhorn Harvest Craft Show 
 on Thanksgiving weekend. Saturday from 10am to 5pm; Sunday from 10am to 4pm
 . More than 70 vendors featuring lots of handcrafted items. Admission is $5
  and parking is free. Visit www.buckhorncommunitycentre.com.\n
X-ALT-DESC;FMTTYPE=text/html:<p>The Buckhorn Community Centre hosts the annual Buckhorn Harvest Craft Sh
 ow on Thanksgiving weekend. Saturday from 10am to 5pm; Sunday from 10am to 
 4pm. More than 70 vendors featuring lots of handcrafted items. Admission is
  $5 and parking is free. Visit www.buckhorncommunitycentre.com.</p>
CONTACT:Meghan Arnott
DTSTAMP:20260423T215722
DTSTART:20251011T100000
DTEND:20251012T160000
SEQUENCE:0
TRANSP:OPAQUE
END:VEVENT
END:VCALENDAR