BEGIN:VCALENDAR
VERSION:2.0
PRODID:-//jEvents 2.0 for Joomla//EN
CALSCALE:GREGORIAN
METHOD:PUBLISH
BEGIN:VEVENT
UID:cbeeddb827da157268e4925b58cb34dd
CATEGORIES:Community Events
CREATED:20251008T183752
SUMMARY:RE:Connect Brings Circular Living to Peterborough
LOCATION:Morrow Building
DESCRIPTION:Clean Up Peterborough will host RE:Connect on October 29, 2025, as part of 
 Canada’s Circular Economy Month. This free, family-friendly event celebrate
 s community, sustainability, and circular living at the Morrow Building in 
 R.A. Memorial Park. Running from 11 a.m. to 7 p.m., the event — inspired by
  the success of Toronto’s REmarket — will bring together more than 25 organ
 izations, services, and changemakers to showcase practical solutions and pr
 ograms for reusing, repairing, and reducing waste.\nRE:Connect highlights c
 ommunity resources that keep valuable items out of landfill and put them ba
 ck into local hands. Throughout the day, you’ll find opportunities to explo
 re, learn, and connect:\n\n - Community Collections – Drop off a long list 
 of items from multiple free reuse and recycling programs, all in one conven
 ient place.\n\n - Sharing &amp; Access – Discover community-driven solution
 s like tool libraries, borrowing/rental programs, and exchange opportunitie
 s that make it easier to share resources.\n\n - Local Changemakers – Connec
 t with businesses, artists, and organizations turning waste into resources 
 and inspiring new ways of living sustainably.\n\n - Hands-On Learning &amp;
  Demonstrations – See local groups in action through demonstrations, quick 
 assessments, and conversations on repair, reuse, and waste reduction.\n\n -
  Community Resources – Explore year-round programs like Repair Café Peterbo
 rough, OPIRG’s FreeMarkets, and B!KE’s membership model, with opportunities
  to get involved in ongoing circular economy initiatives.\n\n - Family Lear
 ning – Encouraging families to learn together about building a more sustain
 able Peterborough.\nBe part of something impactful — where community and ci
 rcularity meet.\nRE:Connect is more than an event — it’s a community-buildi
 ng celebration of circularity in action. Whether you swap, share, educate, 
 or inspire, your participation helps shape a stronger, more sustainable fut
 ure. Full collection guidelines for the reuse and recycling programs are av
 ailable for download in the Files section of the Clean Up Peterborough Face
 book page and linked through the RE:Connect event page : https://tinyurl.co
 m/mnnm2xy7 (https://tinyurl.com/mnnm2xy7)\n
X-ALT-DESC;FMTTYPE=text/html:<p class="western" style="line-height: 115%;" align="left"><strong>Clean Up
  Peterborough</strong> will host <strong>RE:Connect</strong> on <strong>Oct
 ober 29, 2025</strong>, as part of <strong>Canada’s Circular Economy Month<
 /strong>. This free, family-friendly event celebrates community, sustainabi
 lity, and circular living at the <strong>Morrow Building</strong> in <stron
 g>R.A. Memorial Park</strong>. Running from <strong>11 a.m. to 7 p.m.</stro
 ng>, the event — inspired by the success of Toronto’s REmarket — will bring
  together more than <strong>25 organizations</strong>, services, and change
 makers to showcase practical solutions and programs for reusing, repairing,
  and reducing waste.</p><p class="western" style="line-height: 115%;" align
 ="left">RE:Connect highlights community resources that keep valuable items 
 out of landfill and put them back into local hands. Throughout the day, you
 ’ll find opportunities to explore, learn, and connect:</p><ul><li><p class=
 "western" align="left"><strong>Community Collections</strong> – Drop off a 
 long list of items from multiple <b>free</b> reuse and recycling programs, 
 all in one convenient place.</p></li><li><p class="western" align="left"><s
 trong>Sharing &amp; Access</strong> – Discover community-driven solutions l
 ike tool libraries, borrowing/rental programs, and exchange opportunities t
 hat make it easier to share resources.</p></li><li><p class="western" align
 ="left"><strong>Local Changemakers</strong> – Connect with businesses, arti
 sts, and organizations turning waste into resources and inspiring new ways 
 of living sustainably.</p></li><li><p class="western" align="left"><strong>
 Hands-On Learning &amp; Demonstrations</strong> – See local groups in actio
 n through demonstrations, quick assessments, and conversations on repair, r
 euse, and waste reduction.</p></li><li><p class="western" align="left"><str
 ong>Community Resources</strong> – Explore year-round programs like Repair 
 Café Peterborough, OPIRG’s FreeMarkets, and B!KE’s membership model, with o
 pportunities to get involved in ongoing circular economy initiatives.</p></
 li><li><p class="western" align="left"><strong>Family Learning</strong> – E
 ncouraging families to learn together about building a more sustainable Pet
 erborough.</p></li></ul><p class="western" align="left">Be part of somethin
 g impactful — where community and circularity meet.</p><p class="western" a
 lign="left">RE:Connect is more than an event — it’s a community-building ce
 lebration of circularity in action. Whether you swap, share, educate, or in
 spire, your participation helps shape a stronger, more sustainable future. 
 Full collection guidelines for the reuse and recycling programs are availab
 le for download in the Files section of the Clean Up Peterborough Facebook 
 page and linked through the RE:Connect event page : <span style="color: #00
 0080;"><u><a href="https://tinyurl.com/mnnm2xy7" target="_new">https://tiny
 url.com/mnnm2xy7</a></u></span></p>
CONTACT:Steve Paul
X-EXTRAINFO:Any questions people can reach out to Steve at This email address is being 
 protected from spambots. You need JavaScript enabled to view it.
DTSTAMP:20260422T182113
DTSTART:20251029T110000
DTEND:20251029T190000
SEQUENCE:0
TRANSP:OPAQUE
END:VEVENT
END:VCALENDAR