BEGIN:VCALENDAR
VERSION:2.0
PRODID:-//jEvents 2.0 for Joomla//EN
CALSCALE:GREGORIAN
METHOD:PUBLISH
BEGIN:VEVENT
UID:ff753d7dfd973b661b542bdec0e839e9
CATEGORIES:Community Events
CREATED:20251021T170645
SUMMARY:Tapestry The Carole King Songbook
LOCATION:The Keene centre for the Arts 12 First st\, Keene
DESCRIPTION:‘Tapestry, the Carole King Songbook’, starring Suzanne O Davis IS the Premi
 er musical tribute to Carole King.\nExperience this legendary album LIVE in
  concert!\nThis show captures the essence and vibe of a 1970s Carole King c
 oncert, while respectfully paying homage to her iconic album, Tapestry. Imm
 erse yourself in the timeless music of this Grammy-winning masterpiece. Add
 itionally, the show will bring to life many beloved songs from the Broadway
  musical smash, ‘Beautiful’.\nSuzanne O Davis and her world-class band deli
 ver a stellar performance of the complete ‘Tapestry’ album, while showcasin
 g hits written by Carole King and her husband Gerry Goffin during the 60s. 
 They proved to be one of the most successful song writing teams in pop musi
 c history, composing more than 400 songs recorded by over 1,000 artists.\nT
 hese artists include:  The Drifters, The Beatles, Herman’s Hermits, Donnie 
 Osmond, Aretha Franklin, The Shirelles, Bobby Vee, and the list goes on…\nR
 eleased in 1971, Carole King’s ‘Tapestry’ is one of the best-selling and mo
 st celebrated albums of all time. With heart, reverence, and impeccable att
 ention to detail, they perform this entire album – plus her other hits from
  the 70s.\nSuzanne’s boundless energy, piano and vocal skills immediately e
 ngage her audiences from the moment she takes the stage. Her exceptional pe
 rformance recreates the era of iconic recordings, uncovering the rich music
  history of Carole King’s extraordinary career. Including anecdotes and mul
 ti-media about Carole’s life, this show promises to be a memorable and fun 
 interactive experience for all audiences.\nYou will feel the Earth Move und
 er your feet with this show. $30 ticket https://square.link/u/CdzJtShu  (ht
 tps://square.link/u/CdzJtShu)\n \n
X-ALT-DESC;FMTTYPE=text/html:<p>‘Tapestry, the Carole King Songbook’, starring Suzanne O Davis IS the Pr
 emier musical tribute to Carole King.</p><p>Experience this legendary album
  LIVE in concert!</p><p>This show captures the essence and vibe of a 1970s 
 Carole King concert, while respectfully paying homage to her iconic album, 
 Tapestry. Immerse yourself in the timeless music of this Grammy-winning mas
 terpiece. Additionally, the show will bring to life many beloved songs from
  the Broadway musical smash, ‘Beautiful’.</p><p>Suzanne O Davis and her wor
 ld-class band deliver a stellar performance of the complete ‘Tapestry’ albu
 m, while showcasing hits written by Carole King and her husband Gerry Goffi
 n during the 60s. They proved to be one of the most successful song writing
  teams in pop music history, composing more than 400 songs recorded by over
  1,000 artists.</p><p>These artists include:  The Drifters, The Beatles, He
 rman’s Hermits, Donnie Osmond, Aretha Franklin, The Shirelles, Bobby Vee, a
 nd the list goes on…</p><p>Released in 1971, Carole King’s ‘Tapestry’ is on
 e of the best-selling and most celebrated albums of all time. With heart, r
 everence, and impeccable attention to detail, they perform this entire albu
 m – plus her other hits from the 70s.</p><p>Suzanne’s boundless energy, pia
 no and vocal skills immediately engage her audiences from the moment she ta
 kes the stage. Her exceptional performance recreates the era of iconic reco
 rdings, uncovering the rich music history of Carole King’s extraordinary ca
 reer. Including anecdotes and multi-media about Carole’s life, this show pr
 omises to be a memorable and fun interactive experience for all audiences.<
 /p><p>You will feel the Earth Move under your feet with this show. $30 tick
 et <a href="https://square.link/u/CdzJtShu">https://square.link/u/CdzJtShu 
 </a></p><p> </p>
CONTACT:7054400527
X-EXTRAINFO:Keenecentreforthearts.square.site
DTSTAMP:20260423T195700
DTSTART:20251122T190000
SEQUENCE:0
TRANSP:OPAQUE
END:VEVENT
END:VCALENDAR