BEGIN:VCALENDAR
VERSION:2.0
PRODID:-//jEvents 2.0 for Joomla//EN
CALSCALE:GREGORIAN
METHOD:PUBLISH
BEGIN:VEVENT
UID:bf236b60f2b3b34fe81af15fbf15ac4d
CATEGORIES:Community Events
CREATED:20251022T204053
SUMMARY:Kawartha String Orchestra Presents: Annual Free Winter Concert
LOCATION:581 Howden St
DESCRIPTION:The Kawartha String Orchestra (KSO) is pleased to announce their annual Win
 ter concert will take place on Sunday November 30 starting at 2:30pm at Gra
 ce United Church on 581 Howden St, Peterborough (corner of Monaghan and How
 den). \nConductor and music director Tak Kwan and the KSO will play selecti
 ons from Haydn, Corelli, and Manookian, as well as some Christmas favourite
 s. Tak Kwan will also be featured as a solo violinist for several pieces.\n
 Admission is free; cash donations to Kawartha Food Share are gratefully acc
 epted.\nFor more information, visit www.kawarthastring.com (http://www.kawa
 rthstring.com/) or email at This email address is being protected from spam
 bots. You need JavaScript enabled to view it..\n
X-ALT-DESC;FMTTYPE=text/html:<p dir="ltr">The Kawartha String Orchestra (KSO) is pleased to announce the
 ir annual Winter concert will take place on Sunday November 30 starting at 
 2:30pm at Grace United Church on 581 Howden St, Peterborough (corner of Mon
 aghan and Howden). </p><p dir="ltr">Conductor and music director Tak Kwan a
 nd the KSO will play selections from Haydn, Corelli, and Manookian, as well
  as some Christmas favourites. Tak Kwan will also be featured as a solo vio
 linist for several pieces.</p><p dir="ltr">Admission is free; cash donation
 s to Kawartha Food Share are gratefully accepted.</p><p>For more informatio
 n, visit <a href="http://www.kawarthstring.com/" target="_blank" rel="noope
 ner" data-saferedirecturl="https://www.google.com/url?q=http://www.kawarths
 tring.com&amp;source=gmail&amp;ust=1761220216011000&amp;usg=AOvVaw0s2tk1yca
 quqiQII7uUsuE">www.kawarthastring.com</a> or email at <joomla-hidden-mail  
 is-link="1" is-email="1" first="a2F3YXJ0aGFzdHJpbmc=" last="Z21haWwuY29t" t
 ext="a2F3YXJ0aGFzdHJpbmdAZ21haWwuY29t" base=""  target="_blank" rel="noopen
 er">This email address is being protected from spambots. You need JavaScrip
 t enabled to view it.</joomla-hidden-mail>.</p>
CONTACT:Kawartha String Orchestra
DTSTAMP:20260422T163427
DTSTART:20251130T143000
DTEND:20251130T163000
SEQUENCE:0
TRANSP:OPAQUE
END:VEVENT
END:VCALENDAR