BEGIN:VCALENDAR
VERSION:2.0
PRODID:-//jEvents 2.0 for Joomla//EN
CALSCALE:GREGORIAN
METHOD:PUBLISH
BEGIN:VEVENT
UID:2df6a1deb5360836883e351259278b5a
CATEGORIES:Community Events
CREATED:20251029T125852
SUMMARY:Humane Society of Kawartha Lakes Annual Christmas Bazaar
LOCATION:Lakeland Funeral Centre
DESCRIPTION:Join us at our annual Christmas fundraiser!\nDiscover unique gifts from a v
 ariety of vendors, indulge in delicious treats from talented bakers, and im
 merse yourself in the festive ambiance of the holidays. Funds raised throug
 h this event will support the animals at HSKL.\n** WE WILL BE ACCEPTING DON
 ATIONS OF CAT LITTER, DOG &amp; CAT FOOD AT THE EVENT. PLEASE CONSIDER BRIN
 GING A DONATION.**\n
X-ALT-DESC;FMTTYPE=text/html:<p>Join us at our annual Christmas fundraiser!</p><p>Discover unique gifts 
 from a variety of vendors, indulge in delicious treats from talented bakers
 , and immerse yourself in the festive ambiance of the holidays. Funds raise
 d through this event will support the animals at HSKL.</p><p><strong>** WE 
 WILL BE ACCEPTING DONATIONS OF CAT LITTER, DOG &amp; CAT FOOD AT THE EVENT.
  PLEASE CONSIDER BRINGING A DONATION.**</strong></p>
DTSTAMP:20260424T061717
DTSTART:20251115T090000
DTEND:20251115T130000
SEQUENCE:0
TRANSP:OPAQUE
END:VEVENT
END:VCALENDAR