BEGIN:VCALENDAR
VERSION:2.0
PRODID:-//jEvents 2.0 for Joomla//EN
CALSCALE:GREGORIAN
METHOD:PUBLISH
BEGIN:VEVENT
UID:f3777e34558122831bfa24241a37c772
CATEGORIES:Community Events
CREATED:20251030T152547
SUMMARY:Warm Winter Clothing Drive
LOCATION:United Way office at 50 Mary Street West
DESCRIPTION:Community Partners Launch Winter &amp; Warm Clothing Donation Drive\nLet’s 
 Keep Our Community Warm\nLindsay, ON — October 30th 2025 — As the cold weat
 her sets in, many individuals and families in our community are struggling 
 without proper winter clothing. In response to this urgent need, United Way
  Haliburton Kawartha Lakes, in partnership with the John Howard Society of 
 the Kawarthas (JHS) and the Canadian Mental Health Association Haliburton K
 awartha Pine Ridge (CMHA), is launching a Winter &amp; Warm Clothing Donati
 on Drive to help ensure everyone can stay safe and warm this season.\nThe c
 ommunity is encouraged to donate clean, gently used winter clothing, jacket
 s, and accessories to help those in need.\n📍 Drop-Off Location: United Way 
 Office — 50 Mary Street West, Lindsay\n📅 Date: Friday, November 24th\n🕘 Tim
 e: 9:00 a.m. – 4:00 p.m.\nMany don’t realize just how great the need for wa
 rm clothing truly is. Local agencies such as JHS and CMHA report that indiv
 iduals have already been reaching out for winter essentials that are in sho
 rt supply. For those experiencing homelessness, the challenges are even gre
 ater — when their clothing becomes wet, they often have no access to dryers
  or warm spaces to dry it, forcing them to abandon the garments altogether.
  Without community support, staying warm and dry can become an impossible t
 ask.\n“This initiative is about community compassion in action,” said Mike 
 Giese of United Way Haliburton Kawartha Lakes. “We know the need is real, a
 nd we’re grateful to be working alongside our partners to make sure no one 
 faces the winter cold alone. Together, we can stay united in warmth.”\nAll 
 donations will be distributed through local service partners to individuals
  and families in need across the region.\nFor more information or to ask qu
 estions about the donation drive, please contact Mike at (705) 878-5081 or 
 email This email address is being protected from spambots. You need JavaScr
 ipt enabled to view it..\nAbout the PartnersUnited Way Haliburton Kawartha 
 Lakes works to strengthen communities by addressing local needs and support
 ing programs that promote dignity, safety, and well-being.\nThe John Howard
  Society of the Kawarthas provides services that promote positive change an
 d community reintegration.\nThe Canadian Mental Health Association Haliburt
 on Kawartha Pine Ridge supports individuals and families affected by mental
  health and housing challenges through advocacy and compassionate care.\nTo
 gether, let’s keep our community warm.\n
X-ALT-DESC;FMTTYPE=text/html:<p><strong>Community Partners Launch Winter &amp; Warm Clothing Donation Dr
 ive</strong></p><p><strong>Let’s Keep Our Community Warm</strong></p><p><st
 rong>Lindsay, ON — October 30th 2025</strong> — As the cold weather sets in
 , many individuals and families in our community are struggling without pro
 per winter clothing. In response to this urgent need, <strong>United Way Ha
 liburton Kawartha Lakes</strong>, in partnership with the <strong>John Howa
 rd Society of the Kawarthas</strong> (JHS) and the <strong>Canadian Mental 
 Health Association Haliburton Kawartha Pine Ridge (CMHA)</strong>, is launc
 hing a <strong>Winter &amp; Warm Clothing Donation Drive</strong> to help e
 nsure everyone can stay safe and warm this season.</p><p>The community is e
 ncouraged to <strong>donate clean, gently used winter clothing, jackets, an
 d accessories</strong> to help those in need.</p><p>📍 <strong>Drop-Off Loca
 tion:</strong> United Way Office — 50 Mary Street West, Lindsay<br />📅 <str
 ong>Date:</strong> Friday, <strong>November 24th</strong><br />🕘 <strong>Ti
 me:</strong> <strong>9:00 a.m. – 4:00 p.m.</strong></p><p>Many don’t realiz
 e just how great the need for warm clothing truly is. Local agencies such a
 s JHS and CMHA report that individuals have already been reaching out for w
 inter essentials that are in short supply. For those experiencing homelessn
 ess, the challenges are even greater — when their clothing becomes wet, the
 y often have no access to dryers or warm spaces to dry it, forcing them to 
 abandon the garments altogether. Without community support, staying warm an
 d dry can become an impossible task.</p><p>“This initiative is about commun
 ity compassion in action,” said Mike Giese of United Way Haliburton Kawarth
 a Lakes. “We know the need is real, and we’re grateful to be working alongs
 ide our partners to make sure no one faces the winter cold alone. Together,
  we can stay united in warmth.”</p><p>All donations will be distributed thr
 ough local service partners to individuals and families in need across the 
 region.</p><p>For more information or to ask questions about the donation d
 rive, please contact <strong>Mike at (705) 878-5081</strong> or email <stro
 ng><joomla-hidden-mail  is-link="1" is-email="1" first="bWlrZQ==" last="Y2t
 sLnVuaXRlZHdheS5jYQ==" text="bWlrZUBja2wudW5pdGVkd2F5LmNh" base="" >This em
 ail address is being protected from spambots. You need JavaScript enabled t
 o view it.</joomla-hidden-mail></strong>.</p><hr /><h3><strong>About the Pa
 rtners</strong></h3><p><strong>United Way Haliburton Kawartha Lakes</strong
 > works to strengthen communities by addressing local needs and supporting 
 programs that promote dignity, safety, and well-being.<br /><strong>The Joh
 n Howard Society of the Kawarthas</strong> provides services that promote p
 ositive change and community reintegration.<br /><strong>The Canadian Menta
 l Health Association Haliburton Kawartha Pine Ridge</strong> supports indiv
 iduals and families affected by mental health and housing challenges throug
 h advocacy and compassionate care.</p><hr /><p><strong>Together, let’s keep
  our community warm.</strong></p>
CONTACT:This email address is being protected from spambots. You need JavaScript enabled to view it.
X-EXTRAINFO:Community Partners Launch Winter &amp; Warm Clothing Donation Drive\nLet’s 
 Keep Our Community Warm\nLindsay, ON — October 30th 2025 — As the cold weat
 her sets in, many individuals and families in our community are struggling 
 without proper winter clothing. In response to this urgent need, United Way
  Haliburton Kawartha Lakes, in partnership with the John Howard Society of 
 the Kawarthas (JHS) and the Canadian Mental Health Association Haliburton K
 awartha Pine Ridge (CMHA), is launching a Winter &amp; Warm Clothing Donati
 on Drive to help ensure everyone can stay safe and warm this season.\nThe c
 ommunity is encouraged to donate clean, gently used winter clothing, jacket
 s, and accessories to help those in need.\n📍 Drop-Off Location: United Way 
 Office — 50 Mary Street West, Lindsay\n📅 Date: Friday, November 24th\n🕘 Tim
 e: 9:00 a.m. – 4:00 p.m.\nMany don’t realize just how great the need for wa
 rm clothing truly is. Local agencies such as JHS and CMHA report that indiv
 iduals have already been reaching out for winter essentials that are in sho
 rt supply. For those experiencing homelessness, the challenges are even gre
 ater — when their clothing becomes wet, they often have no access to dryers
  or warm spaces to dry it, forcing them to abandon the garments altogether.
  Without community support, staying warm and dry can become an impossible t
 ask.\n“This initiative is about community compassion in action,” said Mike 
 Giese of United Way Haliburton Kawartha Lakes. “We know the need is real, a
 nd we’re grateful to be working alongside our partners to make sure no one 
 faces the winter cold alone. Together, we can stay united in warmth.”\nAll 
 donations will be distributed through local service partners to individuals
  and families in need across the region.\nFor more information or to ask qu
 estions about the donation drive, please contact Mike at (705) 878-5081 or 
 email This email address is being protected from spambots. You need JavaScr
 ipt enabled to view it..\nAbout the Partners\nUnited Way Haliburton Kawarth
 a Lakes works to strengthen communities by addressing local needs and suppo
 rting programs that promote dignity, safety, and well-being.\nThe John Howa
 rd Society of the Kawarthas provides services that promote positive change 
 and community reintegration.\nThe Canadian Mental Health Association Halibu
 rton Kawartha Pine Ridge supports individuals and families affected by ment
 al health and housing challenges through advocacy and compassionate care.\n
 Together, let’s keep our community warm.
DTSTAMP:20260423T131245
DTSTART:20251124T090000
DTEND:20251124T160000
SEQUENCE:0
TRANSP:OPAQUE
END:VEVENT
END:VCALENDAR