BEGIN:VCALENDAR
VERSION:2.0
PRODID:-//jEvents 2.0 for Joomla//EN
CALSCALE:GREGORIAN
METHOD:PUBLISH
BEGIN:VEVENT
UID:eacece58203ab9c3beb77169304f3578
CATEGORIES:Community Events
CREATED:20251030T152850
SUMMARY:Trivia Night hosted by United Way Haliburton Kawartha Lakes
LOCATION:Solidarity Axe Club 68 McLaughlin Road rear unit
DESCRIPTION:🧠 Trivia Night – Tuesday, Dec 2 @ 6 PM\n \n📍Solidarity Axe Club, 68 McLaugh
 lin Rd (Back Lower Unit)\nCome solo or with a team! Trivia fun followed by 
 a round of axe-throwing for a super discounted rate of $20!\n🎯 Register her
 e: https://www.zeffy.com/en-CA/ticketing/holiday-entertainment-trivia (http
 s://www.zeffy.com/en-CA/ticketing/holiday-entertainment-trivia)\n
X-ALT-DESC;FMTTYPE=text/html:<p>🧠 Trivia Night – Tuesday, Dec 2 @ 6 PM</p><p> </p><p>📍Solidarity Axe Clu
 b, 68 McLaughlin Rd (Back Lower Unit)<br />Come solo or with a team! Trivia
  fun followed by a round of axe-throwing for a super discounted rate of $20
 !<br />🎯 Register here: <a id="menuro67" class="fui-Link ___1q1shib f2hkw1w
  f3rmtva f1ewtqcl fyind8e f1k6fduh f1w7gpdv fk6fouc fjoy568 figsok6 f1s184a
 o f1mk8lai fnbmjn9 f1o700av f13mvf36 f1cmlufx f9n3di6 f1ids18y f1tx3yz7 f1d
 eo86v f1eh06m1 f1iescvh fhgqx19 f1olyrje f1p93eir f1nev41a f1h8hb77 f1lqvz6
 u f10aw75t fsle3fq f17ae5zn" title="https://www.zeffy.com/en-ca/ticketing/h
 oliday-entertainment-trivia" href="https://www.zeffy.com/en-CA/ticketing/ho
 liday-entertainment-trivia" target="_blank" rel="noreferrer noopener" aria-
 label="Link https://www.zeffy.com/en-CA/ticketing/holiday-entertainment-tri
 via">https://www.zeffy.com/en-CA/ticketing/holiday-entertainment-trivia</a>
 </p>
CONTACT:This email address is being protected from spambots. You need JavaScript enabled to view it.
X-EXTRAINFO:🧠 Trivia Night – Tuesday, Dec 2 @ 6 PM\n \n📍Solidarity Axe Club, 68 McLaugh
 lin Rd (Back Lower Unit)\nCome solo or with a team! Trivia fun followed by 
 a round of axe-throwing for a super discounted rate of $20!\n🎯 Register her
 e: https://www.zeffy.com/en-CA/ticketing/holiday-entertainment-trivia
DTSTAMP:20260422T163434
DTSTART:20251202T180000
DTEND:20251202T200000
SEQUENCE:0
TRANSP:OPAQUE
END:VEVENT
END:VCALENDAR