BEGIN:VCALENDAR
VERSION:2.0
PRODID:-//jEvents 2.0 for Joomla//EN
CALSCALE:GREGORIAN
METHOD:PUBLISH
BEGIN:VEVENT
UID:41781260990cc655cf784842ca4285f6
CATEGORIES:Community Events
CREATED:20251030T153123
SUMMARY:Seniors Appreciation Day - Help Us Celebrate our Elders!
LOCATION:19 Hamilton Street Lindsay
DESCRIPTION:You're Invited: Seniors Appreciation Day – Help Us Celebrate Our Elders!\nD
 ear Local Business,\nWe’re reaching out with a heartfelt invitation to join
  Andy, the owner of The Barder Shop, in celebrating the incredible seniors 
 in our community at a special Seniors Appreciation Day—with support from Un
 ited Way, who is proudly assisting Andy in planning this meaningful event.\
 n📅 Date: Monday, November 10th\n🕚 Time: 11:00 AM – 3:00 PM\n📍 Location: Sen
 ior Building, 19 Hamilton Street, Lindsay\nAndy will be onsite with his smo
 ker, cooking up delicious food to say thank you to the seniors who have hel
 ped build and shape our community. We’re inviting local businesses like you
 rs to participate by donating food, drinks, or treats to share with our sen
 iors during the event.\nWhether it’s coffee, baked goods, sandwiches, or sn
 acks—every contribution helps make the day even more special.\nAny extra fo
 od will be packaged up and given to the seniors to take home, so they’ll ha
 ve something to enjoy in the days to come.\nIf you’re able to contribute, p
 lease let Andy or Mike know in advance if you'll be attending and what you 
 plan to bring. This will help with planning and ensure a great variety for 
 everyone.\n📧 Mike – This email address is being protected from spambots. Yo
 u need JavaScript enabled to view it.\n📞Andy – (705) 304-1074\nPlease feel 
 free to pass this invitation along to your fellow business owners and colle
 agues—let’s come together as a community to show our appreciation for our e
 lders.\nWe hope to see you there!\nWarm regards,\nAndy Barder – Owner of Th
 e Barder Shop\nMike Giese\nCampaign Coordinator\nUnited Way Haliburton Kawa
 rtha Lakes\n
X-ALT-DESC;FMTTYPE=text/html:<p>You're Invited: Seniors Appreciation Day – Help Us Celebrate Our Elders!
 </p><p>Dear Local Business,</p><p>We’re reaching out with a heartfelt invit
 ation to join <strong>Andy</strong>, the owner of <i>The Barder Shop</i>, i
 n celebrating the incredible seniors in our community at a special <strong>
 Seniors Appreciation Day</strong>—with support from <strong>United Way</str
 ong>, who is proudly assisting Andy in planning this meaningful event.</p><
 p><strong>📅 Date:</strong> Monday, November 10th<br /><strong>🕚 Time:</stro
 ng> 11:00 AM – 3:00 PM<br /><strong>📍 Location:</strong> Senior Building, 1
 9 Hamilton Street, Lindsay</p><p>Andy will be onsite with his smoker, cooki
 ng up delicious food to say thank you to the seniors who have helped build 
 and shape our community. We’re inviting local businesses like yours to part
 icipate by <strong>donating food, drinks, or treats</strong> to share with 
 our seniors during the event.</p><p>Whether it’s coffee, baked goods, sandw
 iches, or snacks—every contribution helps make the day even more special.<b
 r /><strong>Any extra food will be packaged up and given to the seniors to 
 take home, so they’ll have something to enjoy in the days to come.</strong>
 </p><p>If you’re able to contribute, <strong>please let Andy or Mike know i
 n advance</strong> if you'll be attending and what you plan to bring. This 
 will help with planning and ensure a great variety for everyone.</p><p>📧 <s
 trong>Mike</strong> – <i><joomla-hidden-mail  is-link="1" is-email="1" firs
 t="bWlrZQ==" last="Y2tsLnVuaXRlZHdheS5jYQ==" text="bWlrZUBja2wudW5pdGVkd2F5
 LmNh" base="" >This email address is being protected from spambots. You nee
 d JavaScript enabled to view it.</joomla-hidden-mail></i><br />📞<strong>And
 y</strong> – <i>(705) 304-1074</i></p><p>Please feel free to pass this invi
 tation along to your fellow business owners and colleagues—let’s come toget
 her as a community to show our appreciation for our elders.</p><p>We hope t
 o see you there!</p><p>Warm regards,<br /><strong>Andy Barder – Owner of Th
 e Barder Shop</strong></p><p><strong>Mike Giese</strong><br />Campaign Coor
 dinator<br />United Way Haliburton Kawartha Lakes</p>
CONTACT:This email address is being protected from spambots. You need JavaScript enabled to view it.
X-EXTRAINFO:You're Invited: Seniors Appreciation Day – Help Us Celebrate Our Elders!\nD
 ear Local Business,\nWe’re reaching out with a heartfelt invitation to join
  Andy, the owner of The Barder Shop, in celebrating the incredible seniors 
 in our community at a special Seniors Appreciation Day—with support from Un
 ited Way, who is proudly assisting Andy in planning this meaningful event.\
 n📅 Date: Tuesday, November 4th\n🕚 Time: 11:00 AM – 3:00 PM\n📍 Location: Sen
 ior Building, 2 Hamilton Street, Lindsay\nAndy will be onsite with his smok
 er, cooking up delicious food to say thank you to the seniors who have help
 ed build and shape our community. We’re inviting local businesses like your
 s to participate by donating food, drinks, or treats to share with our seni
 ors during the event.\nWhether it’s coffee, baked goods, sandwiches, or sna
 cks—every contribution helps make the day even more special.\nAny extra foo
 d will be packaged up and given to the seniors to take home, so they’ll hav
 e something to enjoy in the days to come.\nIf you’re able to contribute, pl
 ease let Andy or Mike know in advance if you'll be attending and what you p
 lan to bring. This will help with planning and ensure a great variety for e
 veryone.\n📧 Mike – This email address is being protected from spambots. You
  need JavaScript enabled to view it.\n📞Andy – (705) 304-1074\nPlease feel f
 ree to pass this invitation along to your fellow business owners and collea
 gues—let’s come together as a community to show our appreciation for our el
 ders.\nWe hope to see you there!\nWarm regards,\nAndy Barder – Owner of The
  Barder Shop\nMike Giese\nCampaign Coordinator\nUnited Way Haliburton Kawar
 tha Lakes
DTSTAMP:20260422T181644
DTSTART:20251110T110000
DTEND:20251110T150000
SEQUENCE:0
TRANSP:OPAQUE
END:VEVENT
END:VCALENDAR