BEGIN:VCALENDAR
VERSION:2.0
PRODID:-//jEvents 2.0 for Joomla//EN
CALSCALE:GREGORIAN
METHOD:PUBLISH
BEGIN:VEVENT
UID:1e34e7589d972dd85eddd4a4913ef30b
CATEGORIES:Community Events
CREATED:20251030T153531
SUMMARY:United Way Haliburton Kawartha Lakes Lunch & Learn
LOCATION:Zoom Meeting: https://us02web.zoom.us/j/86885904455?pwd=x0D9cwaOLG835f5ERbt
 iqWJdDiL9K1.1
DESCRIPTION:🍽️ Lunch &amp; Learn – Tuesday, Nov 18 @ 12 PM\n \nHosted by our local team
  — learn about the programs your donations support, how to give, updates on
  upcoming events, and get a peek into Edwin Binney’s Community Farm &amp; E
 ducation Centre.\nZoom Meeting: https://us02web.zoom.us/j/86885904455?pwd=x
 0D9cwaOLG835f5ERbtiqWJdDiL9K1.1\n
X-ALT-DESC;FMTTYPE=text/html:<p>🍽️ Lunch &amp; Learn – Tuesday, Nov 18 @ 12 PM</p><p> </p><p>Hosted by o
 ur local team — learn about the programs your donations support, how to giv
 e, updates on upcoming events, and get a peek into Edwin Binney’s Community
  Farm &amp; Education Centre.</p><p>Zoom Meeting: <a title="Lunch &amp; Lea
 rn Zoom Meeting Link" href="https://us02web.zoom.us/j/86885904455?pwd=x0D9c
 waOLG835f5ERbtiqWJdDiL9K1.1">https://us02web.zoom.us/j/86885904455?pwd=x0D9
 cwaOLG835f5ERbtiqWJdDiL9K1.1</a></p>
CONTACT:This email address is being protected from spambots. You need JavaScript enabled to view it.
X-EXTRAINFO:🍽️ Lunch &amp; Learn – Tuesday, Nov 18 @ 12 PM\n \nHosted by our local team
  — learn about the programs your donations support, how to give, updates on
  upcoming events, and get a peek into Edwin Binney’s Community Farm &amp; E
 ducation Centre.
DTSTAMP:20260424T032028
DTSTART:20251118T120000
DTEND:20251118T130000
SEQUENCE:0
TRANSP:OPAQUE
END:VEVENT
END:VCALENDAR