BEGIN:VCALENDAR
VERSION:2.0
PRODID:-//jEvents 2.0 for Joomla//EN
CALSCALE:GREGORIAN
METHOD:PUBLISH
BEGIN:VEVENT
UID:285e63ba768417e78f6e32b23f836931
CATEGORIES:Community Events
CREATED:20251031T170233
SUMMARY:Square Dance Workshop Basic Steps
LOCATION:Emmanuel United Church 534 George St. N\, Peterborough\, Ontario K9H 3S2
DESCRIPTION:Basic workshop Sat.Nov.1st\nat Emmanuel United Church\n534 George St. N. \n
 Peterborough.\nDoors open 1:00pm\nDance 1:30 - 4:30\n$10\n
X-ALT-DESC;FMTTYPE=text/html:<p><strong>Basic workshop Sat.Nov.1st</strong><br /><strong>at Emmanuel Uni
 ted Church</strong><br /><strong>534 George St. N. </strong><br /><strong>P
 eterborough.</strong><br /><strong>Doors open 1:00pm</strong><br /><strong>
 Dance 1:30 - 4:30</strong></p><p><strong>$10</strong></p>
X-EXTRAINFO:Phone:   Ron at 705 927 7515\nor\nemail This email address is being protect
 ed from spambots. You need JavaScript enabled to view it.
DTSTAMP:20260422T182156
DTSTART:20251101T130000
DTEND:20251101T163000
SEQUENCE:0
TRANSP:OPAQUE
END:VEVENT
END:VCALENDAR