BEGIN:VCALENDAR
VERSION:2.0
PRODID:-//jEvents 2.0 for Joomla//EN
CALSCALE:GREGORIAN
METHOD:PUBLISH
BEGIN:VEVENT
UID:2acf927c3753fa83e83906dd68261151
CATEGORIES:Community Events
CREATED:20251103T015914
SUMMARY:Peterborough Fall Coin Show
LOCATION:Westdale United Church\, 1509 Sherbrooke St. W.\, Peterborough\, ON\, K9K 0
 E6
DESCRIPTION:Hosted by The Peterborough Numismatic Society. The Fall Coin Show has somet
 hing for everyone, with 11 dealers there will be something for every collec
 tors needs. Accessable venue and plenty of parking too. Exhibits and displa
 ys.\n
X-ALT-DESC;FMTTYPE=text/html:<p>Hosted by The Peterborough Numismatic Society. The Fall Coin Show has so
 mething for everyone, with 11 dealers there will be something for every col
 lectors needs. Accessable venue and plenty of parking too. Exhibits and dis
 plays.</p>
CONTACT:Nigel Mackey
X-EXTRAINFO:$2.00 entry except those under 12 years of age.
DTSTAMP:20260424T061641
DTSTART:20251115T093000
DTEND:20251115T150000
SEQUENCE:0
TRANSP:OPAQUE
END:VEVENT
END:VCALENDAR