BEGIN:VCALENDAR
VERSION:2.0
PRODID:-//jEvents 2.0 for Joomla//EN
CALSCALE:GREGORIAN
METHOD:PUBLISH
BEGIN:VEVENT
UID:2292be1876cd857ad067bc504b84715a
CATEGORIES:Community Events
CREATED:20251103T022222
SUMMARY:St. Alphonsus School Winter Wonderland Craft and Vendor Show
LOCATION:St. Alphonsus School Peterborugh
DESCRIPTION:Join us at St. Alphonsus School, 875 St. Mary St, Peterborough, for our Cra
 ft &amp; Vendor Show, 4–8 PM! Admission is a freewill donation to help supp
 ort our Breakfast Program, which helps local students start their day right
 .\n
X-ALT-DESC;FMTTYPE=text/html:<p>Join us at St. Alphonsus School, 875 St. Mary St, Peterborough, for our 
 Craft &amp; Vendor Show, 4–8 PM! Admission is a freewill donation to help s
 upport our Breakfast Program, which helps local students start their day ri
 ght.</p>
CONTACT:Bruce Coulter
DTSTAMP:20260423T232745
DTSTART:20251121T160000
DTEND:20251121T200000
SEQUENCE:0
TRANSP:OPAQUE
END:VEVENT
END:VCALENDAR