BEGIN:VCALENDAR
VERSION:2.0
PRODID:-//jEvents 2.0 for Joomla//EN
CALSCALE:GREGORIAN
METHOD:PUBLISH
BEGIN:VEVENT
UID:b809906c39165dbc4ba32430eb437a94
CATEGORIES:Community Events
CREATED:20251103T154024
SUMMARY:2025 Festival of Trees & Decor
LOCATION:Buckhorn Community Centre\, 1782 Lakehurst Road\, Buckhorn K0L1J0
DESCRIPTION:The Buckhorn Community Centre celebrates the season with the 2025 Festival 
 of Trees &amp; Decor from November 21 to December 10. Come in and browse th
 e beautifully decorated trees and holiday home decor sponsored by local bus
 inesses and purchase tickets for the chance to win one of them! Admission t
 o the Festival is free. Tea &amp; Trees and Wine &amp; Trees events during 
 the Festival require reservations and tickets. Please call the BCC at 705-6
 57-8833. For all the information about the Festival and events, please visi
 t www.buckhorncommunitycentre.com.\n
X-ALT-DESC;FMTTYPE=text/html:<p>The Buckhorn Community Centre celebrates the season with the 2025 Festiv
 al of Trees &amp; Decor from November 21 to December 10. Come in and browse
  the beautifully decorated trees and holiday home decor sponsored by local 
 businesses and purchase tickets for the chance to win one of them! Admissio
 n to the Festival is free. Tea &amp; Trees and Wine &amp; Trees events duri
 ng the Festival require reservations and tickets. Please call the BCC at 70
 5-657-8833. For all the information about the Festival and events, please v
 isit www.buckhorncommunitycentre.com.</p>
CONTACT:Judy McWhirter
DTSTAMP:20260423T232643
DTSTART:20251121T160000
DTEND:20251210T130000
SEQUENCE:0
TRANSP:OPAQUE
END:VEVENT
END:VCALENDAR